BEGIN:VCALENDAR
VERSION:2.0
PRODID:-//ChamberMaster//Event Calendar 2.0//EN
METHOD:PUBLISH
X-PUBLISHED-TTL:P3D
REFRESH-INTERVAL:P3D
CALSCALE:GREGORIAN
BEGIN:VEVENT
DTSTART:20200716T133000Z
DTEND:20200716T213000Z
X-MICROSOFT-CDO-ALLDAYEVENT:FALSE
SUMMARY:Community Blood Drive Offers Free COVID-19 Antibody Testing
DESCRIPTION:To boost community collection efforts during this unprecedented time of social distancing and safety concerns\, Vidant Health and The Blood Connection (TBC) are partnering to host a large community blood drive at the Greenville Convention Center. The blood drive is set for Thursday\, July 16\, from 9:30 a.m. - 5:30 p.m. inside the convention center. Those who complete a blood donation will receive free COVID-19 antibody testing and a $10 VISA card. This drive comes at a time of great need for blood donations. Historically for TBC\, the summer months have reflected lower donation numbers.\n\nMake an appointment here: https://donate.thebloodconnection.org/donor/schedules/drive_schedule/147932
X-ALT-DESC;FMTTYPE=text/html:<span style="font-family:times new roman\,serif">To boost community collection efforts during this unprecedented time of social distancing and safety concerns\, Vidant Health and The Blood Connection (TBC) are partnering to host a large community blood drive at the Greenville Convention Center. The blood drive is set for Thursday\, July 16\, from 9:30 a.m. - 5:30 p.m. inside the convention center. <strong>Those who complete a blood donation will receive free COVID-19 antibody testing and a $10 VISA card. </strong>This drive comes at a time of great need for blood donations. Historically for TBC\, the summer months have reflected lower donation numbers.<br />\nMake an appointment here:&nbsp\;</span>https://donate.thebloodconnection.org/donor/schedules/drive_schedule/147932<br />\n<br />\n&nbsp\;
LOCATION:Greenville Convention Center 303 Greenville Blvd. Greenville\, NC 27834
UID:e.840.11427
SEQUENCE:3
DTSTAMP:20260419T191914Z
URL:https://business.greenvillenc.org/events/details/community-blood-drive-offers-free-covid-19-antibody-testing-11427
END:VEVENT

END:VCALENDAR
