BEGIN:VCALENDAR
VERSION:2.0
PRODID:-//ChamberMaster//Event Calendar 2.0//EN
METHOD:PUBLISH
X-PUBLISHED-TTL:P3D
REFRESH-INTERVAL:P3D
CALSCALE:GREGORIAN
BEGIN:VEVENT
DTSTART:20180404T130000Z
DTEND:20180404T160000Z
X-MICROSOFT-CDO-ALLDAYEVENT:FALSE
SUMMARY:City of Greenville/Greenville Utilities Commission MWBE Mix-N-Meet
DESCRIPTION:With Spring approaching\, the time is now to start hitting the pavement and promoting your business! Government is a great place to start!  Join us for the City of Greenville/GUC MWBE Mix-N-Meet Business Opportunity Fair and Matchmaking Session.  The Mix-N-Meet is your opportunity as a local\, minority\, and/or woman-owned business to showcase your business and pitch your products and services directly to the City of Greenville and Greenville Utilities Commission.
X-ALT-DESC;FMTTYPE=text/html:<p>With Spring approaching\, the time is now to start hitting the pavement and promoting your business! Government is a great place to start! &nbsp\;Join us for the City of Greenville/GUC MWBE Mix-N-Meet Business Opportunity Fair and Matchmaking Session. &nbsp\;The Mix-N-Meet is your opportunity as a local\, minority\, and/or woman-owned business to showcase your business and pitch your products and services directly to the City of Greenville and Greenville Utilities Commission.&nbsp\;</p>\n
LOCATION:Third Floor Gallery Greenville City Hall 200 West Fifth Street Greenville\, NC 27858
UID:e.840.8726
SEQUENCE:3
DTSTAMP:20260421T114301Z
URL:https://business.greenvillenc.org/events/details/city-of-greenville-greenville-utilities-commission-mwbe-mix-n-meet-8726
END:VEVENT

END:VCALENDAR
