BEGIN:VCALENDAR
VERSION:2.0
PRODID:-//ChamberMaster//Event Calendar 2.0//EN
METHOD:PUBLISH
X-PUBLISHED-TTL:P3D
REFRESH-INTERVAL:P3D
CALSCALE:GREGORIAN
BEGIN:VEVENT
DTSTART:20160813T220000Z
DTEND:20160814T030000Z
X-MICROSOFT-CDO-ALLDAYEVENT:FALSE
SUMMARY:Circle K Back to School Monster Truck Bash
DESCRIPTION:Sparks will fly as the metal-mashing machines of the Circle K Back-to-School Monster Truck Bash return to The Dirt Track at Charlotte for a night of high-flying action on the most diabolical outdoor course on the planet. Fans can come early to grab a photo beside the massive five-ton machines\, meet the drivers who power the 2\,000-horsepower beasts and enjoy all the pre-race festivities at The Dirt Track. Visit area Circle K stores and pick up any size Polar Pop and redeem at the gate for early entry into the Pit Party autograph session.
X-ALT-DESC;FMTTYPE=text/html:Sparks will fly as the metal-mashing machines of the Circle K Back-to-School Monster Truck Bash return to The Dirt Track at Charlotte for a night of high-flying action on the most diabolical outdoor course on the planet. Fans can come early to grab a photo beside the massive five-ton machines\, meet the drivers who power the 2\,000-horsepower beasts and enjoy all the pre-race festivities at The Dirt Track. Visit area Circle K stores and pick up any size Polar Pop and redeem at the gate for early entry into the Pit Party autograph session.
LOCATION:Charlotte Motor Speedway 5555 Concord Pkwy S\, Concord\, NC 28027
UID:e.840.5315
SEQUENCE:3
DTSTAMP:20260424T035607Z
URL:https://business.greenvillenc.org/events/details/circle-k-back-to-school-monster-truck-bash-08-13-2016-5315
END:VEVENT

END:VCALENDAR
