BEGIN:VCALENDAR
VERSION:2.0
PRODID:-//ChamberMaster//Event Calendar 2.0//EN
METHOD:PUBLISH
X-PUBLISHED-TTL:P3D
REFRESH-INTERVAL:P3D
CALSCALE:GREGORIAN
BEGIN:VEVENT
DTSTART:20191205T210000Z
DTEND:20191206T010000Z
X-MICROSOFT-CDO-ALLDAYEVENT:FALSE
SUMMARY:Christmas Town in Ayden
DESCRIPTION:Christmas Town in Ayden is a family fun event hosted by the Ayden Chamber of Commerce and the Town of Ayden.  \n\n4pm-8pm- Downtown businesses open with giveaways & specials\n\n4pm-8pm- Vendors and Food Trucks- in the Town Hall parking lot\n\n                   Downtown restaurants and many food trucks will be\n\n                    offering a meal deal for a family of 4 to eat for $20-$25. \n\n4pm-6pm- Hayrides- at corner of 3rd and Pitt Street\n\n4pm-6:30pm Santa's Village- In front of the Fire Department\n\n                     Visit with Santa\, play games\, take photos\, listen to DJ\,\n\n                     Ride a train from A Time for Science\, first 100 kids get   \n\n                     a free toy train\n\n4pm-6:30pm  Purple the Clown\, Jumpy House\, free glow in the dark\n\n                      jewelry- On 2nd Street across from Ayden Christian \n\n                      Church.  ****WATCHING THE PARADE ON 2ND \n\n                      STREET RATHER THAN 3RD OR WEST AVE WILL\n\n                      GIVE YOU A LESS CROWDED EXPERIENCE.  \n\n                       COME ON OVER TO 2ND STREET!!!! \n\n5:45PM  Tar River Orchestra-on 2nd Street at Ayden Christian Church- playing beautiful Christmas Music.\n\n6pm-6:30pm  Caroling- all around downtown\n\n6:30pm  CHRISTMAS PARADE OF LIGHTS- FEATURING THE ECU MARCHING PIRATES AND PAW PATROL'S MARSHALL AND SKY AND SANTA!!!!!!!!!!!!!!!!!
X-ALT-DESC;FMTTYPE=text/html:<span style="background-color:rgb(255\, 255\, 255)\; color:rgb(29\, 33\, 41)\; font-family:inherit\; font-size:14px">Christmas Town in Ayden is a family fun event hosted by the Ayden Chamber of Commerce and the Town of Ayden.&nbsp\; </span><br />\n<span style="background-color:rgb(255\, 255\, 255)\; color:rgb(29\, 33\, 41)\; font-family:inherit\; font-size:14px">4pm-8pm- Downtown businesses open with giveaways &amp\; specials</span><br />\n<span style="background-color:rgb(255\, 255\, 255)\; color:rgb(29\, 33\, 41)\; font-family:inherit\; font-size:14px">4pm-8pm- Vendors and Food Trucks- in the Town Hall parking lot</span><br />\n<span style="background-color:rgb(255\, 255\, 255)\; color:rgb(29\, 33\, 41)\; font-family:inherit\; font-size:14px">&nbsp\;&nbsp\;&nbsp\;&nbsp\;&nbsp\;&nbsp\;&nbsp\;&nbsp\;&nbsp\;&nbsp\;&nbsp\;&nbsp\;&nbsp\;&nbsp\;&nbsp\;&nbsp\;&nbsp\;&nbsp\; Downtown restaurants and many food trucks will be</span><br />\n<span style="background-color:rgb(255\, 255\, 255)\; color:rgb(29\, 33\, 41)\; font-family:inherit\; font-size:14px">&nbsp\;&nbsp\;&nbsp\;&nbsp\;&nbsp\;&nbsp\;&nbsp\;&nbsp\;&nbsp\;&nbsp\;&nbsp\;&nbsp\;&nbsp\;&nbsp\;&nbsp\;&nbsp\;&nbsp\;&nbsp\;&nbsp\; offering a meal deal for a family of 4 to eat for $20-$25. </span><br />\n<span style="background-color:rgb(255\, 255\, 255)\; color:rgb(29\, 33\, 41)\; font-family:inherit\; font-size:14px">4pm-6pm- Hayrides- at corner of 3rd and Pitt Street</span><br />\n<span style="background-color:rgb(255\, 255\, 255)\; color:rgb(29\, 33\, 41)\; font-family:inherit\; font-size:14px">4pm-6:30pm Santa&#39\;s Village- In front of the Fire Department</span><br />\n<span style="background-color:rgb(255\, 255\, 255)\; color:rgb(29\, 33\, 41)\; font-family:inherit\; font-size:14px">&nbsp\;&nbsp\;&nbsp\;&nbsp\;&nbsp\;&nbsp\;&nbsp\;&nbsp\;&nbsp\;&nbsp\;&nbsp\;&nbsp\;&nbsp\;&nbsp\;&nbsp\;&nbsp\;&nbsp\;&nbsp\;&nbsp\;&nbsp\; Visit with Santa\, play games\, take photos\, listen to DJ\,</span><br />\n<span style="background-color:rgb(255\, 255\, 255)\; color:rgb(29\, 33\, 41)\; font-family:inherit\; font-size:14px">&nbsp\;&nbsp\;&nbsp\;&nbsp\;&nbsp\;&nbsp\;&nbsp\;&nbsp\;&nbsp\;&nbsp\;&nbsp\;&nbsp\;&nbsp\;&nbsp\;&nbsp\;&nbsp\;&nbsp\;&nbsp\;&nbsp\;&nbsp\; Ride a train from A Time for Science\, first 100 kids get&nbsp\;&nbsp\; </span><br />\n<span style="background-color:rgb(255\, 255\, 255)\; color:rgb(29\, 33\, 41)\; font-family:inherit\; font-size:14px">&nbsp\;&nbsp\;&nbsp\;&nbsp\;&nbsp\;&nbsp\;&nbsp\;&nbsp\;&nbsp\;&nbsp\;&nbsp\;&nbsp\;&nbsp\;&nbsp\;&nbsp\;&nbsp\;&nbsp\;&nbsp\;&nbsp\;&nbsp\; a free toy train</span><br />\n<span style="background-color:rgb(255\, 255\, 255)\; color:rgb(29\, 33\, 41)\; font-family:inherit\; font-size:14px">4pm-6:30pm&nbsp\; Purple the Clown\, Jumpy House\, free glow in the dark</span><br />\n<span style="background-color:rgb(255\, 255\, 255)\; color:rgb(29\, 33\, 41)\; font-family:inherit\; font-size:14px">&nbsp\;&nbsp\;&nbsp\;&nbsp\;&nbsp\;&nbsp\;&nbsp\;&nbsp\;&nbsp\;&nbsp\;&nbsp\;&nbsp\;&nbsp\;&nbsp\;&nbsp\;&nbsp\;&nbsp\;&nbsp\;&nbsp\;&nbsp\;&nbsp\; jewelry- On 2nd Street across from Ayden Christian </span><br />\n<span style="background-color:rgb(255\, 255\, 255)\; color:rgb(29\, 33\, 41)\; font-family:inherit\; font-size:14px">&nbsp\;&nbsp\;&nbsp\;&nbsp\;&nbsp\;&nbsp\;&nbsp\;&nbsp\;&nbsp\;&nbsp\;&nbsp\;&nbsp\;&nbsp\;&nbsp\;&nbsp\;&nbsp\;&nbsp\;&nbsp\;&nbsp\;&nbsp\;&nbsp\; Church.&nbsp\; ****WATCHING THE PARADE ON 2ND </span><br />\n<span style="background-color:rgb(255\, 255\, 255)\; color:rgb(29\, 33\, 41)\; font-family:inherit\; font-size:14px">&nbsp\;&nbsp\;&nbsp\;&nbsp\;&nbsp\;&nbsp\;&nbsp\;&nbsp\;&nbsp\;&nbsp\;&nbsp\;&nbsp\;&nbsp\;&nbsp\;&nbsp\;&nbsp\;&nbsp\;&nbsp\;&nbsp\;&nbsp\;&nbsp\; STREET RATHER THAN 3RD OR WEST AVE WILL</span><br />\n<span style="background-color:rgb(255\, 255\, 255)\; color:rgb(29\, 33\, 41)\; font-family:inherit\; font-size:14px">&nbsp\;&nbsp\;&nbsp\;&nbsp\;&nbsp\;&nbsp\;&nbsp\;&nbsp\;&nbsp\;&nbsp\;&nbsp\;&nbsp\;&nbsp\;&nbsp\;&nbsp\;&nbsp\;&nbsp\;&nbsp\;&nbsp\;&nbsp\;&nbsp\; GIVE YOU A LESS CROWDED EXPERIENCE.&nbsp\; </span><br />\n<span style="background-color:rgb(255\, 255\, 255)\; color:rgb(29\, 33\, 41)\; font-family:inherit\; font-size:14px">&nbsp\;&nbsp\;&nbsp\;&nbsp\;&nbsp\;&nbsp\;&nbsp\;&nbsp\;&nbsp\;&nbsp\;&nbsp\;&nbsp\;&nbsp\;&nbsp\;&nbsp\;&nbsp\;&nbsp\;&nbsp\;&nbsp\;&nbsp\;&nbsp\;&nbsp\; COME ON OVER TO 2ND STREET!!!! </span><br />\n<span style="background-color:rgb(255\, 255\, 255)\; color:rgb(29\, 33\, 41)\; font-family:inherit\; font-size:14px">5:45PM&nbsp\; Tar River Orchestra-on 2nd Street at Ayden Christian Church</span><span style="background-color:rgb(255\, 255\, 255)\; color:rgb(29\, 33\, 41)\; font-family:inherit\; font-size:14px">- playing beautiful Christmas Music.</span><br />\n<span style="background-color:rgb(255\, 255\, 255)\; color:rgb(29\, 33\, 41)\; font-family:inherit\; font-size:14px">6pm-6:30pm&nbsp\; Caroling- all around downtown</span><br />\n<span style="background-color:rgb(255\, 255\, 255)\; color:rgb(29\, 33\, 41)\; font-family:inherit\; font-size:14px">6:30pm&nbsp\; CHRISTMAS PARADE OF LIGHTS- FEATURING THE ECU MARCHING PIRATES AND PAW PATROL&#39\;S MARSHALL AND SKY AND SANTA!!!!!!!!!!!!!!!!!</span>
LOCATION:Downtown Ayden
UID:e.840.10949
SEQUENCE:3
DTSTAMP:20260420T061149Z
URL:https://business.greenvillenc.org/events/details/christmas-town-in-ayden-10949
END:VEVENT

END:VCALENDAR
