BEGIN:VCALENDAR
VERSION:2.0
PRODID:-//ChamberMaster//Event Calendar 2.0//EN
METHOD:PUBLISH
X-PUBLISHED-TTL:P3D
REFRESH-INTERVAL:P3D
CALSCALE:GREGORIAN
BEGIN:VEVENT
DTSTART:20201207T230000Z
DTEND:20201208T013000Z
X-MICROSOFT-CDO-ALLDAYEVENT:FALSE
SUMMARY:Christmas Light Therapy Night
DESCRIPTION:Christmas Light Therapy Night at Advantage Therapy Solutions.\n\n\n\nDecember 7\, 2020 | 6-8:30 PM\n\n212 E. Arlington Blvd\n\n\n\nEat\, Drink\, Mingle\, and hear some amazing new patient testimonials! Help us celebrate with BIG DISCOUNTS\, surprise bundle giveaways from local businesses\, and talking about all things laser!\nGrab and Go Hors D'oeuvres \n\nBig Discounts and Raffles\n\nUnveiling New Testimonials\nThis will be an indoor\, outdoor\, and virtual event to ensure social distancing and safety. Registration is required for entry. To register\, please text: (252) 645-6127 or call (252)689-8729.
X-ALT-DESC;FMTTYPE=text/html:Christmas Light Therapy Night at Advantage Therapy Solutions.<br />\n<br />\n<strong>December 7\, 2020 | 6-8:30 PM<br />\n212 E. Arlington Blvd</strong><br />\n<br />\n<span style="color:#000000">Eat\, Drink\, Mingle</span>\,&nbsp\;and hear some amazing new patient testimonials! Help us celebrate with <strong>BIG DISCOUNTS</strong>\, surprise bundle giveaways from local businesses\, and talking about all things laser!\n<p><strong>Grab and Go Hors D&#39\;oeuvres</strong><strong> </strong></p>\n\n<p><strong>Big Discounts and Raffles</strong></p>\n\n<p><strong>Unveiling New Testimonials</strong></p>\n<em>This will be an indoor\, outdoor\, and virtual event to ensure social distancing and safety. Registration is required for entry. To register\, please text: (252) 645-6127 or call (252)689-8729.</em>
LOCATION:212 E. Arlington Blvd Greenville NC 27858
UID:e.840.12666
SEQUENCE:3
DTSTAMP:20260419T132936Z
URL:https://business.greenvillenc.org/events/details/christmas-light-therapy-night-12-07-2020-12666
END:VEVENT

END:VCALENDAR
