BEGIN:VCALENDAR
VERSION:2.0
PRODID:-//ChamberMaster//Event Calendar 2.0//EN
METHOD:PUBLISH
X-PUBLISHED-TTL:P3D
REFRESH-INTERVAL:P3D
CALSCALE:GREGORIAN
BEGIN:VEVENT
DTSTART:20191209T233000Z
DTEND:20191210T020000Z
X-MICROSOFT-CDO-ALLDAYEVENT:FALSE
SUMMARY:Christmas Light Therapy Night
DESCRIPTION:Our annual customer appreciation event! You\, your family\, and friends are invited to eat\, drink\, mingle\, and listen to some amazing patient testimonials. We will have lots of goodies and door prizes including an Unlimited Plus package!
X-ALT-DESC;FMTTYPE=text/html:Our annual customer appreciation event! You\, your family\, and friends are invited to eat\, drink\, mingle\, and listen to some amazing patient testimonials. We will have lots of goodies and door prizes including an Unlimited Plus package!&nbsp\;
LOCATION:212 E. Arlington Blvd Greenville\, NC 27858
UID:e.840.10961
SEQUENCE:3
DTSTAMP:20260420T060931Z
URL:https://business.greenvillenc.org/events/details/christmas-light-therapy-night-10961
END:VEVENT

END:VCALENDAR
