BEGIN:VCALENDAR
VERSION:2.0
PRODID:-//ChamberMaster//Event Calendar 2.0//EN
METHOD:PUBLISH
X-PUBLISHED-TTL:P3D
REFRESH-INTERVAL:P3D
CALSCALE:GREGORIAN
BEGIN:VEVENT
DTSTART:20180505T180000Z
DTEND:20180505T190000Z
X-MICROSOFT-CDO-ALLDAYEVENT:FALSE
SUMMARY:Children's Chorus and Youth Chorale Spring Concert
DESCRIPTION:Spring Concert\n\nGreenville Choral Society\n\nChildren's Choir and Youth Chorale
X-ALT-DESC;FMTTYPE=text/html:<div style="text-align:center"><span style="font-size:16px"><span style="font-family:tahoma">Spring Concert<br />\nGreenville Choral Society<br />\nChildren&#39\;s Choir and Youth Chorale</span></span></div>\n
LOCATION:The Memorial Baptist Church 1510 Greenville Blvd. Greenville\, NC 27858
UID:e.840.8692
SEQUENCE:3
DTSTAMP:20260421T091353Z
URL:https://business.greenvillenc.org/events/details/children-s-chorus-and-youth-chorale-spring-concert-8692
END:VEVENT

END:VCALENDAR
