BEGIN:VCALENDAR
VERSION:2.0
PRODID:-//ChamberMaster//Event Calendar 2.0//EN
METHOD:PUBLISH
X-PUBLISHED-TTL:P3D
REFRESH-INTERVAL:P3D
CALSCALE:GREGORIAN
BEGIN:VEVENT
DTSTART:20190523T213000Z
DTEND:20190524T000000Z
X-MICROSOFT-CDO-ALLDAYEVENT:FALSE
SUMMARY:Chef's Feast at Tryon Palace
DESCRIPTION:Join PBS star and Chef Vivian Howard\, along with executive Chefs from across the region\, for Chef's Feast at Tryon Palace\n\n\n\nBenefiting the Food Bank of Central & Eastern North Carolina\n\n\n\nEnjoy delicious foods prepared by regional executive chefs\, LIVE music\, beverages\, and great auction items!!
X-ALT-DESC;FMTTYPE=text/html:<p><span style="font-size:14px\;"><span style="color:#C55A11">Join PBS star and Chef Vivian Howard\, along with executive Chefs from across the region\, for</span><strong><span style="color:#C55A11">&nbsp\;</span><em><span style="color:#C55A11">Chef&rsquo\;s Feast at Tryon Palace</span></em></strong></span><br />\n<br />\n<span style="font-size:16px\;"><strong><span style="color:#548235">Benefiting the Food Bank of Central &amp\; Eastern North Carolina</span></strong></span><br />\n<br />\n<span style="font-size:14px\;">Enjoy delicious foods prepared by regional executive chefs\, LIVE&nbsp\;music\, beverages\, and great auction items!!</span></p>\n
LOCATION:Tryon Palace\, Mattocks Hall 529 South Front Street New Bern\, NC 28562
UID:e.840.10045
SEQUENCE:3
DTSTAMP:20260420T162806Z
URL:https://business.greenvillenc.org/events/details/chef-s-feast-at-tryon-palace-10045
END:VEVENT

END:VCALENDAR
