BEGIN:VCALENDAR
VERSION:2.0
PRODID:-//ChamberMaster//Event Calendar 2.0//EN
METHOD:PUBLISH
X-PUBLISHED-TTL:P3D
REFRESH-INTERVAL:P3D
CALSCALE:GREGORIAN
BEGIN:VEVENT
DTSTART;VALUE=DATE:20190618
DTEND;VALUE=DATE:20190628
TRANSP:TRANSPARENT
X-MICROSOFT-CDO-ALLDAYEVENT:TRUE
SUMMARY:Charity Sale
DESCRIPTION:Shop and receive 20% off your entire purchase when you donate $10 or more to Daughters of Worth!\n\nwww.daughtersofworth.org
X-ALT-DESC;FMTTYPE=text/html:Shop and receive 20% off your entire purchase when you donate $10 or more to Daughters of Worth!<br />\nwww.daughtersofworth.org
LOCATION:Votre Boutique 511 Red Banks Road Suite F Greenville NC 27858
UID:e.840.10184
SEQUENCE:3
DTSTAMP:20260420T162946Z
URL:https://business.greenvillenc.org/events/details/charity-sale-10184
END:VEVENT

END:VCALENDAR
