BEGIN:VCALENDAR
VERSION:2.0
PRODID:-//ChamberMaster//Event Calendar 2.0//EN
METHOD:PUBLISH
X-PUBLISHED-TTL:P3D
REFRESH-INTERVAL:P3D
CALSCALE:GREGORIAN
BEGIN:VEVENT
DTSTART:20140716T120000Z
DTEND:20140716T143000Z
X-MICROSOFT-CDO-ALLDAYEVENT:FALSE
SUMMARY:Chamber 101 - How to Maximize your Membership Benefits
DESCRIPTION:Chamber 101:  "How to Maximize your Membership Benefits"\n\n\n\nPlease join the Chamber staff for an in-depth review of your Chamber membership benefits for 2014.  Learn how to fully maximize your benefits through step-by-step direction.  This is a MUST-ATTEND session for new members as well as any renewing members that need a refresher course.\n\n\n\nWe will also review the Chamber's calendar of events and show you how to get engaged.  Please bring your laptop as this is a working session.  And\, do not forget your business cards to network with other members attending!
X-ALT-DESC;FMTTYPE=text/html:<p style="font-family: Arial\, Helvetica\, sans-serif\; font-size: 12px\; color: rgb(0\, 0\, 0)\; line-height: normal\;"><span style="font-size:14px\;"><strong><u>Chamber 101: &nbsp\;&quot\;How to Maximize your Membership Benefits&quot\;</u></strong></span><br />\n<br />\nPlease join the Chamber staff for an in-depth review of your Chamber membership benefits for 2014.&nbsp\; Learn how to fully maximize your benefits through step-by-step direction.&nbsp\; This is a MUST-ATTEND session for new members as well as any renewing members that need a refresher course.<br />\n<br />\nWe will also review the Chamber&rsquo\;s calendar of events and show you how to get engaged. &nbsp\;Please bring your laptop as this is a working session. &nbsp\;And\, do not forget your business cards to network with other members attending!<br />\n&nbsp\;</p>\n<br />\n<span style="font-family:arial\;">&nbsp\;</span>
LOCATION:The Greenville-Pitt County Chamber of Commerce 302 South Greene Street Greenville\, NC 27834 Note: Parking is in Rear of Building
UID:e.840.549
SEQUENCE:3
DTSTAMP:20260425T204855Z
URL:https://business.greenvillenc.org/events/details/chamber-101-how-to-maximize-your-membership-benefits-07-16-2014-549
END:VEVENT

END:VCALENDAR
