BEGIN:VCALENDAR
VERSION:2.0
PRODID:-//ChamberMaster//Event Calendar 2.0//EN
METHOD:PUBLISH
X-PUBLISHED-TTL:P3D
REFRESH-INTERVAL:P3D
CALSCALE:GREGORIAN
BEGIN:VEVENT
DTSTART:20200428T230000Z
DTEND:20200428T233000Z
X-MICROSOFT-CDO-ALLDAYEVENT:FALSE
SUMMARY:Cereal Box Bead Rolling Class
DESCRIPTION:Join us for a fun interactive session\, (online of course)\, on how to turn cereal boxes in to beads like the ones on our Pure Love\, Faith\, and Sanctuary Bracelets. \n\nMore details to come!\n\nhttps://www.facebook.com/events/2737324063033640/\n\nTopic: Cereal Box Beads!\n\nTime: Apr 28\, 2020 07:00 PM Eastern Time (US and Canada)\n\n\n\nJoin Zoom Meeting\n\nhttps://us04web.zoom.us/j/4649709358?pwd=VGVBOXBFUzZESkNOaVlsSmRaRmNkdz09\n\n\n\nMeeting ID: 464 970 9358\n\nPassword: WILL BE GIVEN OUT THE DAY OF THE MEETING TO ATTENDEES
X-ALT-DESC;FMTTYPE=text/html:<span style="background-color:rgb(255\, 255\, 255)\; color:rgb(29\, 33\, 41)\; font-family:helvetica\,arial\,sans-serif\; font-size:14px">Join us for a fun interactive session\, (online of course)\, on how to turn cereal boxes in to beads like the ones on our Pure Love\, Faith\, and Sanctuary Bracelets. </span><br />\n<span style="background-color:rgb(255\, 255\, 255)\; color:rgb(29\, 33\, 41)\; font-family:helvetica\,arial\,sans-serif\; font-size:14px">More details to come!</span><br />\n<a href="https://www.facebook.com/events/2737324063033640/">https://www.facebook.com/events/2737324063033640/</a><br />\n<span style="background-color:rgb(255\, 255\, 255)\; color:rgb(29\, 33\, 41)\; font-family:helvetica\,arial\,sans-serif\; font-size:14px">Topic: Cereal Box Beads!</span><br />\n<span style="background-color:rgb(255\, 255\, 255)\; color:rgb(29\, 33\, 41)\; font-family:helvetica\,arial\,sans-serif\; font-size:14px">Time: Apr 28\, 2020 07:00 PM Eastern Time (US and Canada)</span><br />\n<br />\n<span style="background-color:rgb(255\, 255\, 255)\; color:rgb(29\, 33\, 41)\; font-family:helvetica\,arial\,sans-serif\; font-size:14px">Join Zoom Meeting</span><br />\n<a href="https://us04web.zoom.us/j/4649709358?pwd=VGVBOXBFUzZESkNOaVlsSmRaRmNkdz09&amp\;fbclid=IwAR0JJBR33mN5xSwRwRPkjwUyc2lT3DywjBRRo1T7oR6FOPfLwRq8eswGb0U" rel="nofollow noopener" style="color: rgb(56\, 88\, 152)\; cursor: pointer\; text-decoration-line: none\; font-family: Helvetica\, Arial\, sans-serif\; font-size: 14px\; white-space: pre-wrap\; background-color: rgb(255\, 255\, 255)\;" target="_blank">https://us04web.zoom.us/j/4649709358?pwd=VGVBOXBFUzZESkNOaVlsSmRaRmNkdz09</a><br />\n<br />\n<span style="background-color:rgb(255\, 255\, 255)\; color:rgb(29\, 33\, 41)\; font-family:helvetica\,arial\,sans-serif\; font-size:14px">Meeting ID: <a href="tel:464 970 9358">464 970 9358</a></span><br />\n<span style="background-color:rgb(255\, 255\, 255)\; color:rgb(29\, 33\, 41)\; font-family:helvetica\,arial\,sans-serif\; font-size:14px">Password: WILL BE GIVEN OUT THE DAY OF THE MEETING TO ATTENDEES</span>
LOCATION:Online Zoom!
UID:e.840.11417
SEQUENCE:3
DTSTAMP:20260419T235749Z
URL:https://business.greenvillenc.org/events/details/cereal-box-bead-rolling-class-11417
END:VEVENT

END:VCALENDAR
