BEGIN:VCALENDAR
VERSION:2.0
PRODID:-//ChamberMaster//Event Calendar 2.0//EN
METHOD:PUBLISH
X-PUBLISHED-TTL:P3D
REFRESH-INTERVAL:P3D
CALSCALE:GREGORIAN
BEGIN:VEVENT
DTSTART:20200320T220000Z
DTEND:20200321T010000Z
X-MICROSOFT-CDO-ALLDAYEVENT:FALSE
SUMMARY:Celebrating Redemption: Jubilee at Third Street
DESCRIPTION:Join Third Street Education Center for Celebrating Redemption:  Jubilee at Third Street\, a showcase of redemption stories from the people of Third Street.  Don't miss this very special evening featuring an hors d'oeuvre and wine pairing\, dinner\, and stories of God's work over the years.  https://www.eventbrite.com/e/celebrating-redemption-tickets-93963307783
X-ALT-DESC;FMTTYPE=text/html:Join Third Street Education Center for Celebrating Redemption: &nbsp\;Jubilee at Third Street\, a showcase of redemption stories from the people of Third Street. &nbsp\;Don&#39\;t miss this very special evening featuring an hors d&#39\;oeuvre and wine pairing\, dinner\, and stories of God&#39\;s work over the years. &nbsp\;https://www.eventbrite.com/e/celebrating-redemption-tickets-93963307783<br />\n&nbsp\;
LOCATION:Third Street Education Center 600 W. Third Street Greenville\, NC. 27834
UID:e.840.11399
SEQUENCE:3
DTSTAMP:20260420T030943Z
URL:https://business.greenvillenc.org/events/details/celebrating-redemption-jubilee-at-third-street-11399
END:VEVENT

END:VCALENDAR
