BEGIN:VCALENDAR
VERSION:2.0
PRODID:-//ChamberMaster//Event Calendar 2.0//EN
METHOD:PUBLISH
X-PUBLISHED-TTL:P3D
REFRESH-INTERVAL:P3D
CALSCALE:GREGORIAN
BEGIN:VEVENT
DTSTART:20190510T120000Z
DTEND:20190510T220000Z
X-MICROSOFT-CDO-ALLDAYEVENT:FALSE
SUMMARY:Celebrate Mothers With Eastern Radiologists
DESCRIPTION:Join us as we celebrate Mothers\, Friday May 10\, 2019 from 8am-6pm at our Greenville\, Kinston\, and Washington locations.\n\n\n\nBreast cancer is the second leading cause of cancer death in American women. It's also one of the most treatable cancers when caught early. Annual mammograms are the only screening method proven to reduce cancer deaths- and usually it takes just half an hour. Carve out time for you and your mother\, your aunt\, sister\, or your friend on May 10th. Call us at 252-752-5000 to schedule your appointment. \n\n\n\nWe will be offering a sweet treat\, and a gift for moms with each mammogram.
X-ALT-DESC;FMTTYPE=text/html:<span style="color:rgb(29\, 33\, 41)\; font-family:helvetica\,arial\,sans-serif\; font-size:14px">Join us as we celebrate Mothers\, Friday May 10\, 2019 from 8am-6pm at our Greenville\, Kinston\, and Washington locations.</span><br />\n<br />\n<span style="color:rgb(29\, 33\, 41)\; font-family:helvetica\,arial\,sans-serif\; font-size:14px">Breast cancer is the second leading cause of cancer death in American women. It&#39\;s also one of the most treatable cancers when caught early. Annual mammograms are the only screening method proven to reduce cancer deaths- and usually it takes just half an hour. Carve out time for you and your mother\, your aunt\, sister\, or your friend on May 10th. Call us at 252-752-5000 to schedule your appointment. </span><br />\n<br />\n<span style="color:rgb(29\, 33\, 41)\; font-family:helvetica\,arial\,sans-serif\; font-size:14px">We will be offering a sweet treat\, and a gift for moms with each mammogram.</span>
LOCATION:2101 W. Arlington Blvd. Greenville\, NC 27834
UID:e.840.10050
SEQUENCE:3
DTSTAMP:20260420T163227Z
URL:https://business.greenvillenc.org/events/details/celebrate-mothers-with-eastern-radiologists-10050
END:VEVENT

END:VCALENDAR
