BEGIN:VCALENDAR
VERSION:2.0
PRODID:-//ChamberMaster//Event Calendar 2.0//EN
METHOD:PUBLISH
X-PUBLISHED-TTL:P3D
REFRESH-INTERVAL:P3D
CALSCALE:GREGORIAN
BEGIN:VEVENT
DTSTART:20181004T230000Z
DTEND:20181005T010000Z
X-MICROSOFT-CDO-ALLDAYEVENT:FALSE
SUMMARY:Carolina Pregnancy Center's Celebration of Life Banquet
DESCRIPTION:
X-ALT-DESC;FMTTYPE=text/html:
LOCATION:Greenville Convention Cener 303 Greenville Blvd SW\, Greenville\, NC 27834
UID:e.840.8734
SEQUENCE:3
DTSTAMP:20260421T014739Z
URL:https://business.greenvillenc.org/events/details/carolina-pregnancy-center-s-celebration-of-life-banquet-8734
END:VEVENT

END:VCALENDAR
