BEGIN:VCALENDAR
VERSION:2.0
PRODID:-//ChamberMaster//Event Calendar 2.0//EN
METHOD:PUBLISH
X-PUBLISHED-TTL:P3D
REFRESH-INTERVAL:P3D
CALSCALE:GREGORIAN
BEGIN:VEVENT
DTSTART;VALUE=DATE:20170127
DTEND;VALUE=DATE:20170130
TRANSP:TRANSPARENT
X-MICROSOFT-CDO-ALLDAYEVENT:TRUE
SUMMARY:Carolina Outdoor Expo
DESCRIPTION:Sound Partners is a proud sponsor of the Carolina Outdoor Expo taking place January 27th-29th. The event is being held at the Greenville Convention Center in Greenville\, North Carolina. There will be several hunting and fishing seminars held as well as many vendors present with the latest in outdoor hunting and fishing products. Please contact us with any interest and for information regarding tickets. We hope to see you there!
X-ALT-DESC;FMTTYPE=text/html:<span style="font-family:times new roman"><span style="font-size:18px">Sound Partners is a proud sponsor of the Carolina Outdoor Expo taking place January 27<sup>th</sup>-29<sup>th</sup>. The event is being held at the Greenville Convention Center in Greenville\, North Carolina. There will be several hunting and fishing seminars held as well as many vendors present with the latest in outdoor hunting and fishing products. Please contact us with any interest and for information regarding tickets. We hope to see you there!</span></span>
LOCATION:Greenville Convention Center- 303 SW Greenville Blvd
UID:e.840.7783
SEQUENCE:3
DTSTAMP:20260423T211449Z
URL:https://business.greenvillenc.org/events/details/carolina-outdoor-expo-7783
END:VEVENT

END:VCALENDAR
