BEGIN:VCALENDAR
VERSION:2.0
PRODID:-//ChamberMaster//Event Calendar 2.0//EN
METHOD:PUBLISH
X-PUBLISHED-TTL:P3D
REFRESH-INTERVAL:P3D
CALSCALE:GREGORIAN
BEGIN:VEVENT
DTSTART:20160820T180000Z
DTEND:20160821T030000Z
X-MICROSOFT-CDO-ALLDAYEVENT:FALSE
SUMMARY:Carolina Kickoff
DESCRIPTION:Carolina Kickoff featuring Grammy Award Winning and North Carolina Native Eric Chruch\, with Kid Rock\, Margo Price\, Amasa Hines\, The Harris Brothers\, and David Ray
X-ALT-DESC;FMTTYPE=text/html:Carolina Kickoff featuring Grammy Award Winning and North Carolina Native Eric Chruch\, with Kid Rock\, Margo Price\, Amasa Hines\, The Harris Brothers\, and David Ray
LOCATION:Dowdy-Ficklin Stadium at East Carolina University
UID:e.840.5805
SEQUENCE:3
DTSTAMP:20260424T035249Z
URL:https://business.greenvillenc.org/events/details/carolina-kickoff-08-20-2016-5805
END:VEVENT

END:VCALENDAR
