BEGIN:VCALENDAR
VERSION:2.0
PRODID:-//ChamberMaster//Event Calendar 2.0//EN
METHOD:PUBLISH
X-PUBLISHED-TTL:P3D
REFRESH-INTERVAL:P3D
CALSCALE:GREGORIAN
BEGIN:VEVENT
DTSTART:20170520T230000Z
DTEND:20170521T010000Z
X-MICROSOFT-CDO-ALLDAYEVENT:FALSE
SUMMARY:Carolina Chord Connection Barbershop Chorus - "Music\, Music\, Music"
DESCRIPTION:Carolina Chord Connection Barbershop Chorus presents "Music\, Music\, Music" - a concert fundraiser for the Community Crossroads Center.  The featured guest quartet is Let's Sing from Raleigh/Greensboro and our guest chorus will be the Greenville Community Pops Chorus.\n\n\n\nCarolina Chord Connection website: carolinachordconnection.com
X-ALT-DESC;FMTTYPE=text/html:Carolina Chord Connection Barbershop Chorus presents &quot\;Music\, Music\, Music&quot\; - a concert fundraiser for the Community Crossroads Center. &nbsp\;The featured guest quartet is Let&#39\;s Sing from Raleigh/Greensboro and our guest chorus will be the Greenville Community Pops Chorus.<br />\n<br />\nCarolina Chord Connection website:&nbsp\;carolinachordconnection.com&nbsp\;<br />\n<br />\n&nbsp\;
LOCATION:First Christian Church on 14th St. in Greenville\, NC
UID:e.840.8495
SEQUENCE:3
DTSTAMP:20260423T153207Z
URL:https://business.greenvillenc.org/events/details/carolina-chord-connection-barbershop-chorus-music-music-music-8495
END:VEVENT

END:VCALENDAR
