BEGIN:VCALENDAR
VERSION:2.0
PRODID:-//ChamberMaster//Event Calendar 2.0//EN
METHOD:PUBLISH
X-PUBLISHED-TTL:P3D
REFRESH-INTERVAL:P3D
CALSCALE:GREGORIAN
BEGIN:VEVENT
DTSTART:20170426T170000Z
DTEND:20170426T200000Z
X-MICROSOFT-CDO-ALLDAYEVENT:FALSE
SUMMARY:Career Fair/Open House
DESCRIPTION:Please join Miller-Motte College for our Career Fair/Open House.  Employers - it's not too late to sign up to participate\, please contact Ondrea Joyner for more information at (252) 215-2033.
X-ALT-DESC;FMTTYPE=text/html:Please join Miller-Motte College for our Career Fair/Open House. &nbsp\;Employers - it&#39\;s not too late to sign up to participate\, please contact Ondrea Joyner for more information at (252) 215-2033.
LOCATION:1021 W.H. Smith Blvd Suite 102 Greenville\, NC
UID:e.840.8076
SEQUENCE:3
DTSTAMP:20260423T164927Z
URL:https://business.greenvillenc.org/events/details/career-fair-open-house-8076
END:VEVENT

END:VCALENDAR
