BEGIN:VCALENDAR
VERSION:2.0
PRODID:-//ChamberMaster//Event Calendar 2.0//EN
METHOD:PUBLISH
X-PUBLISHED-TTL:P3D
REFRESH-INTERVAL:P3D
CALSCALE:GREGORIAN
BEGIN:VEVENT
DTSTART;VALUE=DATE:20170511
DTEND;VALUE=DATE:20170524
TRANSP:TRANSPARENT
X-MICROSOFT-CDO-ALLDAYEVENT:TRUE
SUMMARY:Camp Rainbow Supply Shower
DESCRIPTION:Riley's Army is inviting you to assist us with a Camp Rainbow Supply Shower.  We are asking the community to assist us with providing supplies to Camp Rainbow.  Camp Rainbow is a week-long summer camp for children with cancer and blood-related diseases.  The camp is free for the child however is costly to provide.  Riley's Army is sponsoring 15 children to Camp Rainbow this year and hoping to have our volunteers assist us with providing supplies for camp to offset some of the expenses for camp and allow more children the opportunity to attend.  We are also seeking donations to help us with sponsoring 15 children to camp-  the cost to send one child is $1\,000. \n\n \n\nDROP OFF OPPORTUNITIES:\n\n \n\n          Any time before May 23rd at our RA office- 1801 Charles Blvd Ste 107- just leave it in front of our office door (inside the building).  I am in the office most days.\n\n          Anytime before May 23rd at 692 Olive Fine Oils in Arlington Village\n\n          Any time before May 23rd at Hometown Harley Davidson in Winterville.\n\n \n\nWish List   listed below\n\n \n\nMany of the items we purchase for each camper we purchase at the DOLLAR STORE-\n\n \n\n	  Flip-Flops - all school age and adult sizes Dollar Tree- Need 30\n	Plastic Water Bottles with closing lid/ spout- Dollar Tree- Need 100\n	Rain Ponchos -Need 65 \n	Band-Aids of all sizes & Neosporin- small tubes\n	Candy for carnival games- gum\, soft tootsie rolls\, skittles\, starbursts\, etc.\n	Snack Foods treats after medications- goldfish\, animal crackers\, peanut butter crackers\, nabs\n	Solo cups 12 oz- for taking medication\n	Apple Juice- for taking medication\n	Tide with Febreez/ Dryer Sheets- need just 1 XL \n	Hairbands/ ponytail holders\n	Flashlights & Batteries Size D \n	Mesh Backpacks & Mesh Laundry Bags   need 65\n	Small packaged disinfecting wipes\n	Sunscreen- SPF 50/ Off Bug Spray- with Deet\n	ZipLock Freezer (because you can write on them) Bags- Sizes- Gallon\, Quart\, Sandwich\,\n	Sleeping bags\, travel size pillows & pillow cases\, twin sheets\, twin size mattress cover-plastic (at Dollar Tree)\n	Toiletries- soap\, toothpaste\, combs\, shampoo\,\n\nConditioner\, toothbrushes\, Secret and Old Spice Deodorant\n\n\n	Quiet time activity supplies- notebook paper\, pens\, Sharpie\n\nEnvelopes\, puzzles\, journals\, stamps\, adult & kid \n\nColoring book\, card games\, crosswords\, post cards
X-ALT-DESC;FMTTYPE=text/html:<span style="font-family:calibri">Riley&rsquo\;s Army is inviting you to assist us with a Camp Rainbow Supply Shower.</span>&nbsp\; <span style="font-family:calibri">We are asking the community to assist us with providing supplies to Camp Rainbow.</span>&nbsp\; <span style="font-family:calibri">Camp Rainbow is a week-long summer camp for children with cancer and blood-related diseases.</span>&nbsp\; <span style="font-family:calibri">The camp is free for the child however is costly to provide.</span>&nbsp\; <span style="font-family:calibri">Riley&rsquo\;s Army is sponsoring 15 children to Camp Rainbow this year and hoping to have our volunteers assist us with providing supplies for camp to offset some of the expenses for camp and allow more children the opportunity to attend.</span>&nbsp\; <span style="font-family:calibri">We are also seeking donations to help us with sponsoring 15 children to camp-</span>&nbsp\; <span style="font-family:calibri">the cost to send one child is $1\,000. </span><br />\n&nbsp\;<br />\n<span style="font-family:calibri">DROP OFF OPPORTUNITIES:</span><br />\n&nbsp\;<br />\n<span style="font-family:symbol">&middot\;&nbsp\;&nbsp\;&nbsp\;&nbsp\;&nbsp\;&nbsp\;&nbsp\;&nbsp\; </span><span style="font-family:calibri">Any time before May 23</span><sup><span style="font-size:small"><span style="font-family:calibri">rd</span></span></sup><span style="font-family:calibri"> at our RA office- 1801 Charles Blvd Ste 107- just leave it in front of our office door (inside the building).</span>&nbsp\; <span style="font-family:calibri">I am in the office most days.</span><br />\n<span style="font-family:symbol">&middot\;&nbsp\;&nbsp\;&nbsp\;&nbsp\;&nbsp\;&nbsp\;&nbsp\;&nbsp\; </span><span style="font-family:calibri">Anytime before May 23</span><sup><span style="font-size:small"><span style="font-family:calibri">rd</span></span></sup><span style="font-family:calibri"> at 692 Olive Fine Oils in Arlington Village</span><br />\n<span style="font-family:symbol">&middot\;&nbsp\;&nbsp\;&nbsp\;&nbsp\;&nbsp\;&nbsp\;&nbsp\;&nbsp\; </span><span style="font-family:calibri">Any time before May 23</span><sup><span style="font-size:small"><span style="font-family:calibri">rd</span></span></sup><span style="font-family:calibri"> at Hometown Harley Davidson in Winterville.</span><br />\n&nbsp\;<br />\n<span style="font-family:calibri">Wish List &ndash\; listed below</span><br />\n&nbsp\;<br />\n<span style="font-family:calibri">Many of the items we purchase for each camper we purchase at the DOLLAR STORE-</span><br />\n&nbsp\;\n<ul>\n	<li>&bull\; <span style="font-family:calibri\,sans-serif"><span style="color:black">Flip-Flops - all school age and adult sizes&nbsp\;Dollar Tree- Need 30</span></span></li>\n	<li><span style="font-family:calibri\,sans-serif"><span style="color:black">Plastic Water Bottles with closing lid/ spout- Dollar Tree- Need 100</span></span></li>\n	<li><span style="font-family:calibri\,sans-serif"><span style="color:black">Rain Ponchos -Need 65 </span></span></li>\n	<li><span style="font-family:calibri\,sans-serif"><span style="color:black">Band-Aids of all sizes &amp\; Neosporin- small tubes</span></span></li>\n	<li><span style="font-family:calibri\,sans-serif"><span style="color:black">Candy for carnival games- gum\, soft tootsie rolls\, skittles\, starbursts\, etc.</span></span></li>\n	<li><span style="font-family:calibri\,sans-serif"><span style="color:black">Snack Foods treats after medications- goldfish\, animal crackers\, peanut butter crackers\, nabs</span></span></li>\n	<li><span style="font-family:calibri\,sans-serif"><span style="color:black">Solo cups 12 oz- for taking medi</span></span><span style="font-family:calibri\,sans-serif">cation</span></li>\n	<li><span style="font-family:calibri\,sans-serif"><span style="color:black">Apple Juice- for taking medication</span></span></li>\n	<li><span style="font-family:calibri\,sans-serif"><span style="color:black">Tide with Febreez/ Dryer Sheets- need just 1 XL </span></span></li>\n	<li><span style="font-family:calibri\,sans-serif"><span style="color:black">Hairbands/ ponytail holders</span></span></li>\n	<li><span style="font-family:calibri\,sans-serif"><span style="color:black">Flashlights &amp\; Batteries Size D </span></span></li>\n	<li><span style="font-family:calibri\,sans-serif"><span style="color:black">Mesh Ba</span></span><span style="font-family:calibri\,sans-serif">ckpacks &amp\; Mesh Laundry Bags &ndash\; need 65</span></li>\n	<li><span style="font-family:calibri\,sans-serif"><span style="color:black">Small packaged disinfecting wipes</span></span></li>\n	<li><span style="font-family:calibri\,sans-serif"><span style="color:black">Sunscreen- SPF 50/ Off Bug Spray- with Deet</span></span></li>\n	<li><span style="font-family:calibri\,sans-serif"><span style="color:black">ZipLock Freezer (because you can write on them) Bags- Sizes- Gallon\, Quart\, Sandwich\,</span></span></li>\n	<li><span style="font-family:calibri\,sans-serif"><span style="color:black">Sleeping bags\, travel size pillows &amp\; pillow cases\, twin sheets\, twin size mattress cover-plastic (at Dollar Tree)</span></span></li>\n	<li><span style="font-family:calibri\,sans-serif"><span style="color:black">Toiletries- soap\, toothpaste\, combs\, shampoo\,</span></span></li>\n</ul>\n<span style="font-family:calibri\,sans-serif"><span style="color:black">Conditioner\, toothbrushes\, Secret and Old Spice Deodorant</span></span>\n\n<ul>\n	<li><span style="font-family:calibri\,sans-serif"><span style="color:black">Quiet time activity supplies- notebook paper\, pens\, Sharpie</span></span></li>\n</ul>\n<span style="font-family:calibri\,sans-serif"><span style="color:black">Envelopes\, puzzles\, journals\, stamps\, adult &amp\; kid </span></span><br />\n<span style="font-family:calibri\,sans-serif">Coloring book\, card games\, crosswords\, post cards</span>
LOCATION:692 Olive in Arlington Village
UID:e.840.8502
SEQUENCE:3
DTSTAMP:20260423T152412Z
URL:https://business.greenvillenc.org/events/details/camp-rainbow-supply-shower-8502
END:VEVENT

END:VCALENDAR
