BEGIN:VCALENDAR
VERSION:2.0
PRODID:-//ChamberMaster//Event Calendar 2.0//EN
METHOD:PUBLISH
X-PUBLISHED-TTL:P3D
REFRESH-INTERVAL:P3D
CALSCALE:GREGORIAN
BEGIN:VEVENT
DTSTART:20180422T220000Z
DTEND:20180423T010000Z
X-MICROSOFT-CDO-ALLDAYEVENT:FALSE
SUMMARY:Cali Curves 1st Annual Fashion Show and gift basket auction
DESCRIPTION:Come out and support my new plus size boutique and raise awareness for domestic violence at this red carpet Cali Curves event 15.00 advance tickets standing only*\n\n\n\n25.00 V.I.P tickets including one glass of wine\,soda or water\, Fruit and Cheese table\, and one premium V.I.P seat...limited tickets\n\nand 20.00 at the door.\n\n\n\nThere will be a gift basket raffle give away\,amazing local entertainment from singers to domestic violence survivors\, and lets not forget beautiful fashion jewelry\, baskets\,baked goods\, and more local vendors to shop with before and after the show. My brand is here to lift the depressed and the low self esteem woman and women with curvaceous attitudes to not only love our body but know that its our body and our rules and i will help us look good  by feeling confident and good about what you wear when you shop with me Hope to see you there doors open at 5:30 pm.
X-ALT-DESC;FMTTYPE=text/html:Come out and support my new plus size boutique and raise awareness for domestic violence at this red carpet Cali&nbsp\;Curves event 15.00 advance tickets standing only*<br />\n<br />\n25.00 V.I.P tickets including one glass of wine\,soda or water\, Fruit and Cheese table\, and one premium V.I.P seat...limited tickets<br />\nand 20.00 at the door.<br />\n<br />\nThere will be a gift basket raffle give away\,amazing local entertainment from singers to domestic violence survivors\, and lets not forget beautiful fashion jewelry\, baskets\,baked goods\, and more local vendors to shop with before and after the show. My brand is here to lift the depressed and the low self esteem woman and women with curvaceous attitudes to not only love our body but know that its our body and our rules and i will help us look good&nbsp\; by feeling confident and good about what you wear when you shop with me Hope to see you there doors open at 5:30 pm.
LOCATION:The fashion show will be held at the Greenville Museum of Art off Evans Street
UID:e.840.8732
SEQUENCE:3
DTSTAMP:20260421T113813Z
URL:https://business.greenvillenc.org/events/details/cali-curves-1st-annual-fashion-show-and-gift-basket-auction-8732
END:VEVENT

END:VCALENDAR
