BEGIN:VCALENDAR
VERSION:2.0
PRODID:-//ChamberMaster//Event Calendar 2.0//EN
METHOD:PUBLISH
X-PUBLISHED-TTL:P3D
REFRESH-INTERVAL:P3D
CALSCALE:GREGORIAN
BEGIN:VEVENT
DTSTART;VALUE=DATE:20190424
DTEND;VALUE=DATE:20190505
TRANSP:TRANSPARENT
X-MICROSOFT-CDO-ALLDAYEVENT:TRUE
SUMMARY:Buy More\, Save More! Graduation Gifts
DESCRIPTION:Shower your graduate with gifts from Votre during our Buy More\, Save More Promotion! Whether you're grabbing a last minute graduation dress\, work wear to prepare them for their new job\, accessories that help make a statement\, or anything in between Votre has what you need. We offer complimentary gift wrapping and gift cards too!
X-ALT-DESC;FMTTYPE=text/html:Shower your graduate with gifts from Votre during our Buy More\, Save More Promotion! Whether you&#39\;re grabbing a last minute graduation dress\, work wear to prepare them for their new job\, accessories that help make a statement\, or anything in between Votre has what you need. We offer complimentary gift wrapping and gift cards too!&nbsp\;
LOCATION:511 Red Banks Road Greenville\, NC 27858
UID:e.840.10052
SEQUENCE:3
DTSTAMP:20260420T163411Z
URL:https://business.greenvillenc.org/events/details/buy-more-save-more-graduation-gifts-10052
END:VEVENT

END:VCALENDAR
