BEGIN:VCALENDAR
VERSION:2.0
PRODID:-//ChamberMaster//Event Calendar 2.0//EN
METHOD:PUBLISH
X-PUBLISHED-TTL:P3D
REFRESH-INTERVAL:P3D
CALSCALE:GREGORIAN
BEGIN:VEVENT
DTSTART:20170615T130000Z
DTEND:20170615T170000Z
X-MICROSOFT-CDO-ALLDAYEVENT:FALSE
SUMMARY:Business 101- What Every Business Needs to Know to Succeed
DESCRIPTION:Is Owning a Business a Good Fit & Planning for a Healthy Business\n	Cash Flow- Don't let the Well Run Dry\n	Credit- What you Need to Know\n	Access to Capital- Where to Seek Funding
X-ALT-DESC;FMTTYPE=text/html:<ul>\n	<li>Is Owning a Business a Good Fit &amp\; Planning for a Healthy Business</li>\n	<li>Cash Flow- Don&#39\;t let the Well Run Dry</li>\n	<li>Credit- What you Need to Know</li>\n	<li>Access to Capital- Where to Seek Funding</li>\n</ul>\n
LOCATION:Greenville Hilton 207 SW Greenville Blvd Greenville\, NC 27834
UID:e.840.8626
SEQUENCE:3
DTSTAMP:20260423T153351Z
URL:https://business.greenvillenc.org/events/details/business-101-what-every-business-needs-to-know-to-succeed-8626
END:VEVENT

END:VCALENDAR
