BEGIN:VCALENDAR
VERSION:2.0
PRODID:-//ChamberMaster//Event Calendar 2.0//EN
METHOD:PUBLISH
X-PUBLISHED-TTL:P3D
REFRESH-INTERVAL:P3D
CALSCALE:GREGORIAN
BEGIN:VEVENT
DTSTART:20190416T223000Z
DTEND:20190416T233000Z
X-MICROSOFT-CDO-ALLDAYEVENT:FALSE
SUMMARY:Bullying- A Community Seminar
DESCRIPTION:Bullying- What is it? What are we doing? How can we partner together to stop it? Join representatives from Pitt County Schools\, Greenville PD\, Parents for Public Schools and Pitt County Students Against Destructive Decisions to discuss this issue and how we can work together to help students feel safe and supported. RSVPs are appreciated\, but not required. Visit this link: https://bit.ly/2HC2Nga or call 252-758-1604 to RSVP.
X-ALT-DESC;FMTTYPE=text/html:Bullying- What is it? What are we doing? How can we partner together to stop it? Join representatives from Pitt County Schools\, Greenville PD\, Parents for Public Schools and Pitt County Students Against Destructive Decisions to discuss this issue and how we can work together to help students feel safe and supported. RSVPs are appreciated\, but not required. Visit this link:&nbsp\;https://bit.ly/2HC2Nga or call 252-758-1604 to RSVP.&nbsp\;
LOCATION:Sycamore Hill Missionary Baptist Church
UID:e.840.9772
SEQUENCE:3
DTSTAMP:20260420T185920Z
URL:https://business.greenvillenc.org/events/details/bullying-a-community-seminar-9772
END:VEVENT

END:VCALENDAR
