BEGIN:VCALENDAR
VERSION:2.0
PRODID:-//ChamberMaster//Event Calendar 2.0//EN
METHOD:PUBLISH
X-PUBLISHED-TTL:P3D
REFRESH-INTERVAL:P3D
CALSCALE:GREGORIAN
BEGIN:VEVENT
DTSTART:20161008T000000Z
DTEND:20161008T014000Z
X-MICROSOFT-CDO-ALLDAYEVENT:FALSE
SUMMARY:Branford Marsalis Quartet with Special Guest Kurt Elling
DESCRIPTION:East Carolina University's S. Rudolph Alexander Performing Arts Series presents the Branford Marsalis Quartet and the Grammy-winning vocalist Kurt Elling in a collaboration of musical forces. Marsalis on saxophones\, Joey Calderazzo on piano\, Eric Revis on bass and Justin Faulkner on drums rarely invite other musicians into the folds of their nearly telepathic cohesive unit. But Elling's deep jazz vocabulary\, technical versatility and outstanding intonation will enable the band to perform a variety of material in new ways. The collaboration between jazz's most intense band and one of jazz's foremost singers will prove to be anything but standard. It's a not-to-be-missed event. Full and pick-five subscriptions available now. Individual tickets go on sale August 26. Sign up for an on-sale alert and special offers on our website.
X-ALT-DESC;FMTTYPE=text/html:<span style="font-family:gotham\; font-size:8.5px">East Carolina University&#39\;s S. Rudolph Alexander Performing Arts Series presents the Branford Marsalis Quartet and the Grammy-winning vocalist Kurt Elling in a collaboration of musical forces. Marsalis on saxophones\, Joey Calderazzo on piano\, Eric Revis on bass and Justin Faulkner on drums rarely invite other musicians into the folds of their nearly telepathic cohesive unit. But Elling&rsquo\;s deep jazz vocabulary\, technical versatility and outstanding intonation will enable the band to perform a variety of material in new ways. The collaboration between jazz&rsquo\;s most intense band and one of jazz&rsquo\;s foremost singers will prove to be anything but standard. It&rsquo\;s a not-to-be-missed event. Full and pick-five subscriptions available now. Individual tickets go on sale August 26.&nbsp\;</span><span style="font-family:gotham\; font-size:9px">Sign up for an on-sale alert and special offers on our website.&nbsp\;</span>
LOCATION:ECU's Wright Auditorium
UID:e.840.2672
SEQUENCE:3
DTSTAMP:20260424T023001Z
URL:https://business.greenvillenc.org/events/details/branford-marsalis-quartet-with-special-guest-kurt-elling-10-07-2016-2672
END:VEVENT

END:VCALENDAR
