BEGIN:VCALENDAR
VERSION:2.0
PRODID:-//ChamberMaster//Event Calendar 2.0//EN
METHOD:PUBLISH
X-PUBLISHED-TTL:P3D
REFRESH-INTERVAL:P3D
CALSCALE:GREGORIAN
BEGIN:VEVENT
DTSTART:20170326T180000Z
DTEND:20170326T200000Z
X-MICROSOFT-CDO-ALLDAYEVENT:FALSE
SUMMARY:Boy From the Clouds Book Signing
DESCRIPTION:Boy From the Clouds by K. Dupree is a Children's chapter book and a great story of a little girl on Earth and a boy who lived among the clouds. Through the years\, the girl grew up into a woman and then an old lady\, while the boy kept watching his friend from the skies. At the end\, their friendship and love proved stronger than their different worlds. This book signing will launch Taylor Made's first Children's Chapter book AND a portion of the proceeds will benefit Grifton School.
X-ALT-DESC;FMTTYPE=text/html:<span style="color:rgb(29\, 33\, 41)\; font-family:helvetica neue\,helvetica\,arial\,sans-serif\; font-size:14px">Boy From the Clouds by K. Dupree is a Children&#39\;s chapter book and a great story of a little girl on Earth and a boy who lived among the clouds. Through the years\, the girl grew up into a woman and then an old lady\, while the boy kept watching his friend from the skies. At the end\, their friendship and love proved stronger than their different worlds. This book signing will launch Taylor Made&#39\;s first Children&#39\;s Chapter book AND a portion of the proceeds will benefit Grifton School.</span>
LOCATION:Barnes and Nobles Booksellers 3040 Evans Street Greenville NC 27858
UID:e.840.8071
SEQUENCE:3
DTSTAMP:20260423T193541Z
URL:https://business.greenvillenc.org/events/details/boy-from-the-clouds-book-signing-8071
END:VEVENT

END:VCALENDAR
