BEGIN:VCALENDAR
VERSION:2.0
PRODID:-//ChamberMaster//Event Calendar 2.0//EN
METHOD:PUBLISH
X-PUBLISHED-TTL:P3D
REFRESH-INTERVAL:P3D
CALSCALE:GREGORIAN
BEGIN:VEVENT
DTSTART;VALUE=DATE:20190730
DTEND;VALUE=DATE:20190804
TRANSP:TRANSPARENT
X-MICROSOFT-CDO-ALLDAYEVENT:TRUE
SUMMARY:Box Sale
DESCRIPTION:Come shop our box sale!!\n\nNow through Saturday\, August 3rd.\n\nHOT Items from $10 to $25!!
X-ALT-DESC;FMTTYPE=text/html:Come shop our box sale!!<br />\nNow through Saturday\, August 3rd.<br />\nHOT Items from $10 to $25!!
LOCATION:511 Red Banks Road Suite F Greenville\, NC 27858
UID:e.840.10350
SEQUENCE:3
DTSTAMP:20260420T121342Z
URL:https://business.greenvillenc.org/events/details/box-sale-10350
END:VEVENT

END:VCALENDAR
