BEGIN:VCALENDAR
VERSION:2.0
PRODID:-//ChamberMaster//Event Calendar 2.0//EN
METHOD:PUBLISH
X-PUBLISHED-TTL:P3D
REFRESH-INTERVAL:P3D
CALSCALE:GREGORIAN
BEGIN:VEVENT
DTSTART:20160728T210000Z
DTEND:20160729T000000Z
X-MICROSOFT-CDO-ALLDAYEVENT:FALSE
SUMMARY:Botox\, Bubbly and Balloons
DESCRIPTION:Botox\, Bubbly and Balloons\n\nThursday\, July 28th\n\nHeavy hors d'oeuvres and champagne from 5pm- 8pm.\n\nFree Botox and gifts with qualifying purchase. \n\nA portion of the proceeds with go to the victims of the Orlando\, Fl Shootings.\n\nCall to RSVP\, 252-752-1406
X-ALT-DESC;FMTTYPE=text/html:<div style="text-align:center"><span style="font-family:verdana">Botox\, Bubbly and Balloons<br />\nThursday\, July 28th<br />\nHeavy hors d&#39\;oeuvres and champagne from 5pm- 8pm.</span></div>\n\n<div style="text-align:center"><strong>Free Botox and gifts with qualifying purchase. </strong><br />\n<span style="font-family:verdana"><em>A portion of the proceeds with go to the victims of the Orlando\, Fl Shootings.<br />\n<strong>Call to RSVP\, 252-752-1406</strong></em></span><br />\n<br />\n&nbsp\;</div>\n
LOCATION:Beauty Bar Medispa 1021 Red Banks Road Greenville\, NC 27858
UID:e.840.5798
SEQUENCE:3
DTSTAMP:20260424T052643Z
URL:https://business.greenvillenc.org/events/details/botox-bubbly-and-balloons-07-28-2016-5798
END:VEVENT

END:VCALENDAR
