BEGIN:VCALENDAR
VERSION:2.0
PRODID:-//ChamberMaster//Event Calendar 2.0//EN
METHOD:PUBLISH
X-PUBLISHED-TTL:P3D
REFRESH-INTERVAL:P3D
CALSCALE:GREGORIAN
BEGIN:VEVENT
DTSTART:20190209T150000Z
DTEND:20190209T190000Z
X-MICROSOFT-CDO-ALLDAYEVENT:FALSE
SUMMARY:Blood Drive at The Painted Peacock
DESCRIPTION:The Blood Connection and The Painted Peacock will be holding a blood drive on February 9 from 10am-2pm. If you donate blood you will receive a $20 Gift Certificate to The Painted Peacock along with knowing you helped save 3 lives!!! \n\n\n\nYou can visit the link below to schedule your donation and pre-register. Receive a special gift when you pre-register! Walk-Ins are welcome also. \n\n\n\nhttps://donate.thebloodconnection.org/donor/schedules/drive_schedule/125819\n\n\n\nNeed us to watch the kiddos while you donate? Give us a call! We can help! 252-758-1100
X-ALT-DESC;FMTTYPE=text/html:<span style="color:rgb(29\, 33\, 41)\; font-family:helvetica\,arial\,sans-serif\; font-size:14px">The Blood Connection and The Painted Peacock will be holding a blood drive on February 9 from 10am-2pm. If you donate blood you will receive a $20 Gift Certificate to The Painted Peacock along with knowing you helped save 3 lives!!! </span><br />\n<br />\n<span style="color:rgb(29\, 33\, 41)\; font-family:helvetica\,arial\,sans-serif\; font-size:14px">You can visit the link below to schedule your donation and pre-register. Receive a special gift when you pre-register! Walk-Ins are welcome also. </span><br />\n<br />\n<a href="https://donate.thebloodconnection.org/donor/schedules/drive_schedule/125819?fbclid=IwAR2s9meASek4SRB9kDGa9uCLzJOuv6po2s5fLmd86M29SMPD5Yc7xCnnnIg" rel="nofollow noopener" style="color: rgb(54\, 88\, 153)\; cursor: pointer\; text-decoration-line: none\; font-family: Helvetica\, Arial\, sans-serif\; font-size: 14px\; white-space: pre-wrap\;" target="_blank">https://donate.thebloodconnection.org/donor/schedules/drive_schedule/125819</a><br />\n<br />\n<span style="color:rgb(29\, 33\, 41)\; font-family:helvetica\,arial\,sans-serif\; font-size:14px">Need us to watch the kiddos while you donate? Give us a call! We can help! 252-758-1100</span>
LOCATION:The Painted Peacock Arlington Vilalge 631 Red Banks Road Greenville\, NC 27858
UID:e.840.9754
SEQUENCE:3
DTSTAMP:20260420T214034Z
URL:https://business.greenvillenc.org/events/details/blood-drive-at-the-painted-peacock-9754
END:VEVENT

END:VCALENDAR
