BEGIN:VCALENDAR
VERSION:2.0
PRODID:-//ChamberMaster//Event Calendar 2.0//EN
METHOD:PUBLISH
X-PUBLISHED-TTL:P3D
REFRESH-INTERVAL:P3D
CALSCALE:GREGORIAN
BEGIN:VEVENT
DTSTART:20190121T210000Z
DTEND:20190122T000000Z
X-MICROSOFT-CDO-ALLDAYEVENT:FALSE
SUMMARY:Blood Drive at Jersey Mikes
DESCRIPTION:Jersey Mikes by Pitt Community College will be hosting The Blood Connection on 1/21/19 from 4:00PM to 7:00PM. We will be givng each donor a $20 gift card to Jersey Mikes.
X-ALT-DESC;FMTTYPE=text/html:Jersey Mikes by Pitt Community College will be hosting The Blood Connection on 1/21/19 from 4:00PM to 7:00PM. We will be givng each donor a $20 gift card to Jersey Mikes.&nbsp\;&nbsp\;&nbsp\;&nbsp\;
LOCATION:Jersey Mikes 4054 S Memorial Dr Suite A\, Winterville\, NC 28590
UID:e.840.9755
SEQUENCE:3
DTSTAMP:20260420T213937Z
URL:https://business.greenvillenc.org/events/details/blood-drive-at-jersey-mikes-9755
END:VEVENT

END:VCALENDAR
