BEGIN:VCALENDAR
VERSION:2.0
PRODID:-//ChamberMaster//Event Calendar 2.0//EN
METHOD:PUBLISH
X-PUBLISHED-TTL:P3D
REFRESH-INTERVAL:P3D
CALSCALE:GREGORIAN
BEGIN:VEVENT
DTSTART:20180409T190000Z
DTEND:20180409T230000Z
X-MICROSOFT-CDO-ALLDAYEVENT:FALSE
SUMMARY:Blood Drive at Ironwood Country Club
DESCRIPTION:Please Consider donating the gift of life at Ironwood Golf and Country Club April 9th 3-7PM. You can make an appointment online by going to redcrossblood.org and putting in sponsor code Ironwood CC or by calling 1-800-RED CROSS.  All presenting donors will be entered to win a free round of golf.
X-ALT-DESC;FMTTYPE=text/html:Please Consider donating the gift of life at Ironwood Golf and Country Club April 9th 3-7PM. You can make an appointment online by going to redcrossblood.org and putting in sponsor code Ironwood CC or by calling 1-800-RED CROSS.&nbsp\; All presenting donors will be entered to win a free round of golf.&nbsp\;
LOCATION:Ironwood Golf and Country Club 200 Golf Club Wynd Greenville NC
UID:e.840.8743
SEQUENCE:3
DTSTAMP:20260421T102443Z
URL:https://business.greenvillenc.org/events/details/blood-drive-at-ironwood-country-club-8743
END:VEVENT

END:VCALENDAR
