BEGIN:VCALENDAR
VERSION:2.0
PRODID:-//ChamberMaster//Event Calendar 2.0//EN
METHOD:PUBLISH
X-PUBLISHED-TTL:P3D
REFRESH-INTERVAL:P3D
CALSCALE:GREGORIAN
BEGIN:VEVENT
DTSTART:20181205T160000Z
DTEND:20181205T210000Z
X-MICROSOFT-CDO-ALLDAYEVENT:FALSE
SUMMARY:Blood Drive
DESCRIPTION:Wednesday 12/05/18 The Blood Connection will be hosting a blood drive at the Food Lion on 10th Street in Greenville NC. We are the community blood bank for our area. If you donate with us it stays local\, and our friends and neighbors in the hospitals are depending on you to help keep a stable blood supply at Vidant. As a thank you to all of our donors we will be giving each donor $20 in gift cards to Food Lion. #llocalpatients\n\n\n\nSign Up Here:\n\n\n\nhttps://donate.thebloodconnection.org/donor/schedules/drive_schedule/124662?fbclid=IwAR387exp8d_DWRS4qOPQvlJH-eOAt4ckR-g9h2noyHJmZA4W_fYmPFb_38k
X-ALT-DESC;FMTTYPE=text/html:<span style="color:rgb(29\, 33\, 41)\; font-family:helvetica\,arial\,sans-serif\; font-size:14px">Wednesday 12/05/18&nbsp\;</span><a class="profileLink" href="https://www.facebook.com/BloodConnection/?__tn__=K-R&amp\;eid=ARDQxfm1YbxmPupZFEr-ConPMkPAD-ONBLdQk5bEaycsNS9ide_yROwl7rc1S38NJe6dJEGvrGZXrN6C&amp\;fref=mentions&amp\;__xts__%5B0%5D=68.ARBOEl6Gna6pQeGoXdj8l7yUGXXib0xboJpv4f0OEdtXt-lsKnN-Wx0OC_lOwp4-7H1qlgKhIq86IQg7EMTl5qgOmi1aTIR1m3mAHZ25YzL1uJ-C_lfuyhks4Me5J4aRgw5biW-gmD2GZ3Uj4hEC1Wnk4gFMIcVC7Ohg7gD_rCKhEquzMS3U24Qh7SizHN1csGLaaWKqTrLm--o5jA" style="color: rgb(54\, 88\, 153)\; cursor: pointer\; text-decoration-line: none\; font-family: Helvetica\, Arial\, sans-serif\; font-size: 14px\;">The Blood Connection</a><span style="color:rgb(29\, 33\, 41)\; font-family:helvetica\,arial\,sans-serif\; font-size:14px">&nbsp\;will be hosting a blood drive at the&nbsp\;</span><a class="profileLink" href="https://www.facebook.com/foodlion/?__tn__=K-R&amp\;eid=ARAunUUl_ldAnYOjKtcIxmtqesRapf1YPhvU9KAEMNAqpH48LvOTb7Fyoua4mEH7qvvRn_8Zddd1x4-Y&amp\;fref=mentions&amp\;__xts__%5B0%5D=68.ARBOEl6Gna6pQeGoXdj8l7yUGXXib0xboJpv4f0OEdtXt-lsKnN-Wx0OC_lOwp4-7H1qlgKhIq86IQg7EMTl5qgOmi1aTIR1m3mAHZ25YzL1uJ-C_lfuyhks4Me5J4aRgw5biW-gmD2GZ3Uj4hEC1Wnk4gFMIcVC7Ohg7gD_rCKhEquzMS3U24Qh7SizHN1csGLaaWKqTrLm--o5jA" style="color: rgb(54\, 88\, 153)\; cursor: pointer\; text-decoration-line: none\; font-family: Helvetica\, Arial\, sans-serif\; font-size: 14px\;">Food Lion</a><span style="color:rgb(29\, 33\, 41)\; font-family:helvetica\,arial\,sans-serif\; font-size:14px">&nbsp\;on 10th Street in Greenville NC. We are the community blood bank for our area. If you donate with us it stays local\, and our friends and neighbors in the hospitals are depending on you to help keep a stable blood supply at Vidant. As a thank you to all of our donors we will be giving each donor $20 in gift cards to Food Lion.&nbsp\;</span><span style="color:rgb(54\, 88\, 153)\; cursor:pointer\; font-family:inherit\; font-size:14px\; text-decoration-line:none"><span style="font-family:inherit"><a class="_58cn" href="https://www.facebook.com/hashtag/llocalpatients?source=feed_text&amp\;epa=HASHTAG&amp\;__xts__%5B0%5D=68.ARBOEl6Gna6pQeGoXdj8l7yUGXXib0xboJpv4f0OEdtXt-lsKnN-Wx0OC_lOwp4-7H1qlgKhIq86IQg7EMTl5qgOmi1aTIR1m3mAHZ25YzL1uJ-C_lfuyhks4Me5J4aRgw5biW-gmD2GZ3Uj4hEC1Wnk4gFMIcVC7Ohg7gD_rCKhEquzMS3U24Qh7SizHN1csGLaaWKqTrLm--o5jA&amp\;__tn__=%2ANK-R" style="color: rgb(54\, 88\, 153)\; cursor: pointer\; text-decoration-line: none\; font-family: Helvetica\, Arial\, sans-serif\; font-size: 14px\;">#</a></span><span style="font-family:inherit"><a class="_58cn" href="https://www.facebook.com/hashtag/llocalpatients?source=feed_text&amp\;epa=HASHTAG&amp\;__xts__%5B0%5D=68.ARBOEl6Gna6pQeGoXdj8l7yUGXXib0xboJpv4f0OEdtXt-lsKnN-Wx0OC_lOwp4-7H1qlgKhIq86IQg7EMTl5qgOmi1aTIR1m3mAHZ25YzL1uJ-C_lfuyhks4Me5J4aRgw5biW-gmD2GZ3Uj4hEC1Wnk4gFMIcVC7Ohg7gD_rCKhEquzMS3U24Qh7SizHN1csGLaaWKqTrLm--o5jA&amp\;__tn__=%2ANK-R" style="color: rgb(54\, 88\, 153)\; cursor: pointer\; text-decoration-line: none\; font-family: Helvetica\, Arial\, sans-serif\; font-size: 14px\;">llocalpatients</a><br />\n<br />\nSign Up Here:</span></span><br />\n<br />\nhttps://donate.thebloodconnection.org/donor/schedules/drive_schedule/124662?fbclid=IwAR387exp8d_DWRS4qOPQvlJH-eOAt4ckR-g9h2noyHJmZA4W_fYmPFb_38k
LOCATION:Food Lion 3136 E 10th St. Greenville\, NC 27858
UID:e.840.9744
SEQUENCE:3
DTSTAMP:20260420T225850Z
URL:https://business.greenvillenc.org/events/details/blood-drive-9744
END:VEVENT

END:VCALENDAR
