BEGIN:VCALENDAR
VERSION:2.0
PRODID:-//ChamberMaster//Event Calendar 2.0//EN
METHOD:PUBLISH
X-PUBLISHED-TTL:P3D
REFRESH-INTERVAL:P3D
CALSCALE:GREGORIAN
BEGIN:VEVENT
DTSTART:20201105T220000Z
DTEND:20201106T020000Z
X-MICROSOFT-CDO-ALLDAYEVENT:FALSE
SUMMARY:Bites on the Bridge
DESCRIPTION:Join the City of Greenville & Recreation and Parks Department for Bites on the Bridge as we celebrate the completion of upgrades on the Pedestrian Bridge at the Town Common.\n\n\n\nThere will be food trucks\, limited & socially distant seating on the bridge\, and grab-and-go parking for those who want to enjoy dinner at home.\n\n\n\nFind more details on our Facebook event page: https://www.facebook.com/events/701009283875883/
X-ALT-DESC;FMTTYPE=text/html:<span style="color:rgb(29\, 33\, 41)\; font-family:system-ui\,-apple-system\,system-ui\,.sfnstext-regular\,sans-serif\; font-size:14px">Join the City of Greenville &amp\; Recreation and Parks Department for Bites on the Bridge as we celebrate the completion of upgrades on the Pedestrian Bridge at the Town Common.</span><br />\n<br />\n<span style="color:rgb(29\, 33\, 41)\; font-family:system-ui\,-apple-system\,system-ui\,.sfnstext-regular\,sans-serif\; font-size:14px">There will be food trucks\, limited &amp\; socially distant seating on the bridge\, and grab-and-go parking for those who want to enjoy dinner at home.<br />\n<br />\nFind more details on our Facebook event page:&nbsp\;</span>https://www.facebook.com/events/701009283875883/
LOCATION:Pedestrian Bridge at the Town Common on E 1st Street.
UID:e.840.12650
SEQUENCE:3
DTSTAMP:20260419T132345Z
URL:https://business.greenvillenc.org/events/details/bites-on-the-bridge-12650
END:VEVENT

END:VCALENDAR
