BEGIN:VCALENDAR
VERSION:2.0
PRODID:-//ChamberMaster//Event Calendar 2.0//EN
METHOD:PUBLISH
X-PUBLISHED-TTL:P3D
REFRESH-INTERVAL:P3D
CALSCALE:GREGORIAN
BEGIN:VEVENT
DTSTART:20160603T210000Z
DTEND:20160604T000000Z
X-MICROSOFT-CDO-ALLDAYEVENT:FALSE
SUMMARY:Bike Night benefiting Riley's Army
DESCRIPTION:We hope you will join us this Friday June 3rd from 5:00-8:00pm at Hometown Harley Davidson for Bike Night!  What a better way to end your week than supporting Riley's Army! \n\nWe will have $2 meal deals- hot dog or hamburger\, chips\, and a drink.  There will be DJ\, raffle drawings\, and cornhole.  Let's push away these rain clouds and end our week on a sunny note!\n\n \n\nhttps://www.facebook.com/events/229281597430486/
X-ALT-DESC;FMTTYPE=text/html:<span style="color: rgb(166\, 91\, 203)\;"><span style="font-size: 12pt\;">We hope you will join us this Friday June 3rd from 5:00-8:00pm at Hometown Harley Davidson for Bike Night! &nbsp\;What a better way to end your week than supporting Riley&#39\;s Army!&nbsp\;</span></span><br />\n<span style="color: rgb(166\, 91\, 203)\;"><span style="font-size: 12pt\;">We will have $2 meal deals- hot dog or hamburger\,&nbsp\;chips\, and a drink. &nbsp\;There will be DJ\, raffle drawings\, and&nbsp\;cornhole. &nbsp\;Let&#39\;s push away these rain&nbsp\;clouds and end our week on a sunny note!</span></span><br />\n&nbsp\;<br />\n<span style="color: rgb(112\, 48\, 160)\;"><a href="https://www.facebook.com/events/229281597430486/">https://www.facebook.com/events/229281597430486/</a></span>
LOCATION:Hometown Harley Davidson 2300 Elaines Way\, Winterville
UID:e.840.4492
SEQUENCE:3
DTSTAMP:20260424T083635Z
URL:https://business.greenvillenc.org/events/details/bike-night-benefiting-riley-s-army-06-03-2016-4492
END:VEVENT

END:VCALENDAR
