BEGIN:VCALENDAR
VERSION:2.0
PRODID:-//ChamberMaster//Event Calendar 2.0//EN
METHOD:PUBLISH
X-PUBLISHED-TTL:P3D
REFRESH-INTERVAL:P3D
CALSCALE:GREGORIAN
BEGIN:VEVENT
DTSTART:20170429T220000Z
DTEND:20170430T030000Z
X-MICROSOFT-CDO-ALLDAYEVENT:FALSE
SUMMARY:Big Night Out - Junior Women's Association of Greenville\, NC
DESCRIPTION:Join us for the Second Annual Big Night Out\, a fundraiser to benefit JWA. Enjoy dinner\, drinks\, dancing\, a silent auction and music by Backyard Groove!
X-ALT-DESC;FMTTYPE=text/html:Join us for the Second Annual Big Night Out\, a fundraiser to benefit JWA. Enjoy dinner\, drinks\, dancing\, a silent auction and music by Backyard Groove!&nbsp\;
LOCATION:Greenville Convention Center
UID:e.840.7855
SEQUENCE:3
DTSTAMP:20260423T165418Z
URL:https://business.greenvillenc.org/events/details/big-night-out-junior-women-s-association-of-greenville-nc-7855
END:VEVENT

END:VCALENDAR
