BEGIN:VCALENDAR
VERSION:2.0
PRODID:-//ChamberMaster//Event Calendar 2.0//EN
METHOD:PUBLISH
X-PUBLISHED-TTL:P3D
REFRESH-INTERVAL:P3D
CALSCALE:GREGORIAN
BEGIN:VEVENT
DTSTART:20170906T113000Z
DTEND:20170906T130000Z
X-MICROSOFT-CDO-ALLDAYEVENT:FALSE
SUMMARY:Bethel Business Before Hours
DESCRIPTION:Join us for breakfast and get to know Pitt Community College in Your Community. Come see what PCC is doing for businesses like yours! We will have refreshments\, door prizes\, and information about PCC Services.\n\n\n\nRSVP to 252.493.7819 or email rbridgers@email.pittcc.edu by Tuesday\, Sept. 5.
X-ALT-DESC;FMTTYPE=text/html:Join us for breakfast and get to know Pitt Community College in Your Community. Come see what PCC is doing for businesses like yours! We will have refreshments\, door prizes\, and information about PCC Services.<br />\n<br />\nRSVP to 252.493.7819 or email rbridgers@email.pittcc.edu by Tuesday\, Sept. 5.
LOCATION:La Casetta Italian Restaurant 7434 Main Street Bethel\, NC
UID:e.840.8649
SEQUENCE:3
DTSTAMP:20260423T091728Z
URL:https://business.greenvillenc.org/events/details/bethel-business-before-hours-8649
END:VEVENT

END:VCALENDAR
