BEGIN:VCALENDAR
VERSION:2.0
PRODID:-//ChamberMaster//Event Calendar 2.0//EN
METHOD:PUBLISH
X-PUBLISHED-TTL:P3D
REFRESH-INTERVAL:P3D
CALSCALE:GREGORIAN
BEGIN:VEVENT
DTSTART:20201022T210000Z
DTEND:20201023T000000Z
X-MICROSOFT-CDO-ALLDAYEVENT:FALSE
SUMMARY:Beer and Batting Practice with the Wood Ducks
DESCRIPTION:Kinston\, North Carolina   The Down East Wood Ducks will host Beer and BP events every Thursday night in October presented by Down East Homes. The dates for these events are 10/8\, 10/15\, 10/22 and the final date will be on 10/29 where we will have a contest to see if anybody can hit a homerun for a house or 100k.\n\n \n\nFans can enter the contest from now until October 27th\, 2020 for their chance to hit a homerun at Grainger stadium. Registration will also take place on the Beer and BP dates leading up to October 29th.\n\n \n\nBatting Practice will be from 6pm until 8pm each of the three nights. The Mother Earth Pavilion will be open at 5pm for drink specials and to kick off Thursday Night football. NFL football will be on all TV's throughout the pavilion for each of the dates.\n\n \n\n \n\nAs part of our COVID19 event protocol\, we ask that you all respect the social distancing guidelines and wear a mask if you can't properly social distance. Please bring your own equipment (i.e bat and gloves.) All areas will be properly sanitized and cleaned in between events. \n\n \n\n \n\n \n\n \n\n           \n\nEvent Dates and Games Broadcast :\n\n \n\nOctober 8th   Bucs @ Bears   8:20pm kickoff\n\n \n\nOctober 15th   KC Chiefs @ Buffalo   8:20pm kickoff\n\n \n\nOctober 22nd   NY Giants @ Philadelphia Eagles   8:20pm kickoff\n\n \n\nOctober 29th   Falcons @ Panthers   8:20pm kickoff (Homerun for a House or 100k)\n\n \n\n \n\n \n\n \n\n \n\n \n\n \n\n  WOOD DUCKS
X-ALT-DESC;FMTTYPE=text/html:<strong><span style="color:black"><span style="font-size:11.0pt">Kinston\, North Carolina</span></span></strong><span style="color:black"><span style="font-size:11.0pt"> &ndash\; The Down East Wood Ducks will host Beer and BP events every Thursday night in October presented by Down East Homes. The dates for these events are 10/8\, 10/15\, 10/22 and the final date will be on 10/29 where we will have a contest to see if anybody can hit a homerun for a house or 100k.</span></span><br />\n&nbsp\;<br />\n<span style="color:black"><span style="font-size:11.0pt">Fans can enter the contest from now until October 27<sup>th</sup>\, 2020 for their chance to hit a homerun at Grainger stadium. Registration will also take place on the Beer and BP dates leading up to October 29<sup>th</sup>.</span></span><br />\n&nbsp\;<br />\n<span style="color:black"><span style="font-size:11.0pt">Batting Practice will be from 6pm until 8pm each of the three nights. The Mother Earth Pavilion will be open at 5pm for drink specials and to kick off Thursday Night football. NFL football will be on all TV&rsquo\;s throughout the pavilion for each of the dates.</span></span><br />\n&nbsp\;<br />\n&nbsp\;<br />\n<span style="color:black"><span style="font-size:11.0pt">As part of our COVID19 event protocol\, we ask that you all respect the social distancing guidelines and wear a mask if you can&rsquo\;t properly social distance. Please bring your own equipment (i.e bat and gloves.) All areas will be properly sanitized and cleaned in between events. </span></span><br />\n&nbsp\;<br />\n&nbsp\;<br />\n&nbsp\;<br />\n&nbsp\;<br />\n&nbsp\;&nbsp\;&nbsp\;&nbsp\;&nbsp\;&nbsp\;&nbsp\;&nbsp\;&nbsp\;&nbsp\;&nbsp\;<br />\n<span style="font-size:11.0pt">Event Dates and Games Broadcast :</span><br />\n&nbsp\;<br />\n<span style="font-size:11.0pt">October 8<sup>th</sup> &ndash\; Bucs @ Bears &ndash\; 8:20pm kickoff</span><br />\n&nbsp\;<br />\n<span style="font-size:11.0pt">October 15<sup>th</sup> &ndash\; KC Chiefs @ Buffalo &ndash\; 8:20pm kickoff</span><br />\n&nbsp\;<br />\n<span style="font-size:11.0pt">October 22<sup>nd</sup> &ndash\; NY Giants @ Philadelphia Eagles &ndash\; 8:20pm kickoff</span><br />\n&nbsp\;<br />\n<span style="font-size:11.0pt">October 29<sup>th</sup> &ndash\; Falcons @ Panthers &ndash\; 8:20pm kickoff (Homerun for a House or 100k)</span><br />\n&nbsp\;<br />\n&nbsp\;<br />\n&nbsp\;<br />\n&nbsp\;<br />\n&nbsp\;<br />\n&nbsp\;<br />\n&nbsp\;<br />\n<strong><span style="font-size:11.0pt">&ndash\; WOOD DUCKS &ndash\;</span></strong>\n<h1 style="text-align:justify">&nbsp\;</h1>\n
LOCATION:The event will be held at Grainger Stadium every Thursday in October.
UID:e.840.11438
SEQUENCE:3
DTSTAMP:20260419T145624Z
URL:https://business.greenvillenc.org/events/details/beer-and-batting-practice-with-the-wood-ducks-10-22-2020-11438
END:VEVENT

END:VCALENDAR
