BEGIN:VCALENDAR
VERSION:2.0
PRODID:-//ChamberMaster//Event Calendar 2.0//EN
METHOD:PUBLISH
X-PUBLISHED-TTL:P3D
REFRESH-INTERVAL:P3D
CALSCALE:GREGORIAN
BEGIN:VEVENT
DTSTART:20160914T210000Z
DTEND:20160915T000000Z
X-MICROSOFT-CDO-ALLDAYEVENT:FALSE
SUMMARY:Beauty Bar Medispa Presents Skin Better Science Reveal Event
DESCRIPTION:The secret is out! \n\nWe are launching a new skin care line\, Skin Better Science\, on Wednesday\, September 14th!\n\n\n\nPlease join us and learn more about this revolutionary skin care line that will change your skin for the better!
X-ALT-DESC;FMTTYPE=text/html:<div style="text-align: center\;"><span style="font-size:16px"><span style="font-family:tahoma"><span style="font-size:18px"><em>The secret is out! </em></span><br />\nWe are launching a new skin care line\, <em>Skin Better Science\, on Wednesday\, September 14th!</em><br />\n<br />\nPlease join us and learn more about this revolutionary skin care line <em><strong>that will change your skin for the better</strong></em>!</span></span></div>\n
LOCATION:Beauty Bar Medispa 1021 Red Banks Road Greenville\, NC 27858
UID:e.840.5849
SEQUENCE:3
DTSTAMP:20260424T025017Z
URL:https://business.greenvillenc.org/events/details/beauty-bar-medispa-presents-skin-better-science-reveal-event-5849
END:VEVENT

END:VCALENDAR
