BEGIN:VCALENDAR
VERSION:2.0
PRODID:-//ChamberMaster//Event Calendar 2.0//EN
METHOD:PUBLISH
X-PUBLISHED-TTL:P3D
REFRESH-INTERVAL:P3D
CALSCALE:GREGORIAN
BEGIN:VEVENT
DTSTART:20160421T150000Z
DTEND:20160421T230000Z
X-MICROSOFT-CDO-ALLDAYEVENT:FALSE
SUMMARY:Beauty Bar Medispa Birthday Celebration!
DESCRIPTION:We're celebrating our birthday and you are Invited!\n\n\n	All products 20% off!\n	$75 off your filler purchase plus get 15 units of botox free ($150 dollar value)\n	Botox $10 per unit\n	Laser hair removal our lowest price ever!\n	$250 off kybella and Zerona only $600\n	Buy one get one FREE-Trusculpt\n	Gifts with every purchase and enter to win free prizes!\n\nDuring Tea Time (2:00-4:00pm) 25% off all products and deeper discounts on Kybella
X-ALT-DESC;FMTTYPE=text/html:<em><strong>We&#39\;re celebrating our birthday and you are Invited!</strong></em>\n\n<ul>\n	<li>All products 20% off!</li>\n	<li>$75 off your filler purchase plus get 15 units of botox free ($150 dollar value)</li>\n	<li>Botox $10 per unit</li>\n	<li>Laser hair removal our lowest price ever!</li>\n	<li>$250 off kybella and Zerona only $600</li>\n	<li>Buy one get one FREE-Trusculpt</li>\n	<li>Gifts with every purchase and enter to win free prizes!</li>\n</ul>\n<em><strong>During Tea Time (2:00-4:00pm) 25% off all products and deeper discounts on Kybella</strong></em><br />\n<br />\n&nbsp\;
LOCATION:1021 Red Banks Rd. Suite A&D Greenville\, NC 27858
UID:e.840.2460
SEQUENCE:3
DTSTAMP:20260424T113806Z
URL:https://business.greenvillenc.org/events/details/beauty-bar-medispa-birthday-celebration-04-21-2016-2460
END:VEVENT

END:VCALENDAR
