BEGIN:VCALENDAR
VERSION:2.0
PRODID:-//ChamberMaster//Event Calendar 2.0//EN
METHOD:PUBLISH
X-PUBLISHED-TTL:P3D
REFRESH-INTERVAL:P3D
CALSCALE:GREGORIAN
BEGIN:VEVENT
DTSTART:20190824T120000Z
DTEND:20190825T190000Z
X-MICROSOFT-CDO-ALLDAYEVENT:FALSE
SUMMARY:Beau's Buddies/ Riley's Army Batting For a Cause
DESCRIPTION:Save the Date! More Info to Come. This will be a Top Gun tournament.
X-ALT-DESC;FMTTYPE=text/html:<span style="color:rgb(29\, 33\, 41)\; font-family:helvetica\,arial\,sans-serif\; font-size:14px">Save the Date! More Info to Come. This will be a Top Gun tournament. </span>
LOCATION:Various Baseball Fields
UID:e.840.10366
SEQUENCE:3
DTSTAMP:20260420T122033Z
URL:https://business.greenvillenc.org/events/details/beau-s-buddies-riley-s-army-batting-for-a-cause-10366
END:VEVENT

END:VCALENDAR
