BEGIN:VCALENDAR
VERSION:2.0
PRODID:-//ChamberMaster//Event Calendar 2.0//EN
METHOD:PUBLISH
X-PUBLISHED-TTL:P3D
REFRESH-INTERVAL:P3D
CALSCALE:GREGORIAN
BEGIN:VEVENT
DTSTART:20160409T140000Z
DTEND:20160409T160000Z
X-MICROSOFT-CDO-ALLDAYEVENT:FALSE
SUMMARY:Barnes & Nobles Fundraiser
DESCRIPTION:Winterville Charter Academy will have our Barnes & Noble Fundraiser/Spirit Day on April 9th!\n\nAt 10:00am you are all invited to the Greenville Barnes & Nobles on Evans Street to join our Story Book Character Parade parents can join in too! Dress as your favorite story book character and join the parade!\n\nAt 11:00am Barnes and Nobles will have their National Story Time: Let's Play!\n\nWe will finish up with a Pep Rally! Our Student Government will lead us in this exciting demonstration and explanation of what we are all about! We have the Pom Poms now all we need is your support! Also\, artwork from our scholars will be displayed through out the store so come out\, have some refreshments and invite a friend!\n\n\n\nWhen shopping please mention Winterville Charter Academy in the store or online use ID# 11768082.  You can shop online or in the store from 10:00am-10:00pm.\n\n\n\nWe look forward to seeing you there! Go WILDCATS
X-ALT-DESC;FMTTYPE=text/html:Winterville Charter Academy will have our Barnes &amp\; Noble Fundraiser/Spirit Day on April 9th!<br />\nAt 10:00am you are all invited to the Greenville Barnes &amp\; Nobles on Evans Street to join our Story Book Character Parade parents can join in too! Dress as your favorite story book character and join the parade!<br />\nAt 11:00am Barnes and Nobles will have their National Story Time: Let&#39\;s Play!<br />\nWe will finish up with a Pep Rally! Our Student Government will lead us in this exciting demonstration and explanation of what we are all about! We have the Pom Poms now all we need is your support! Also\, artwork from our scholars will be displayed through out the store so come out\, have some refreshments and invite a friend!<br />\n<br />\nWhen shopping please mention Winterville Charter Academy in the store or online use ID# 11768082.&nbsp\; You can shop online or in the store from 10:00am-10:00pm.<br />\n<br />\nWe look forward to seeing you there! Go WILDCATS
LOCATION:Barnes & Nobles Evans Street Greenville\, NC
UID:e.840.2456
SEQUENCE:3
DTSTAMP:20260424T113501Z
URL:https://business.greenvillenc.org/events/details/barnes-nobles-fundraiser-04-09-2016-2456
END:VEVENT

END:VCALENDAR
