BEGIN:VCALENDAR
VERSION:2.0
PRODID:-//ChamberMaster//Event Calendar 2.0//EN
METHOD:PUBLISH
X-PUBLISHED-TTL:P3D
REFRESH-INTERVAL:P3D
CALSCALE:GREGORIAN
BEGIN:VEVENT
DTSTART:20160604T130000Z
DTEND:20160604T160000Z
X-MICROSOFT-CDO-ALLDAYEVENT:FALSE
SUMMARY:Bark For Life of Pitt County
DESCRIPTION:The American Cancer Society's Bark For Life is a fundraising event honoring the life-long contributions of our Canine Caregivers. It presents an opportunity for people to be empowered through their canine companion partnerships and to contribute to  the mission of the American Cancer Society. Bark for Life of Pitt County\, an event supporting Relay For Life of Pitt County will be held on Saturday\, June 4\, 2016 at Greensprings Park in Greenville\, NC.  A morning of food\, music and fun with our furry best friends will begin at 9 A. M.  Activities include a demonstration by the Greenville Police Department's K-9 Unit\, a demonstration by the Pitt Robotics Crew and a Doggie Pageant hosted by the Humane Society of Eastern North Carolina. Bruiser the Bulldog of Pitt Community College is also scheduled to join the fun! Luminaria balloons are also available in honor or memory of our canine companions and loved ones.  Registration is $15 for one dog  and $25 for two dogs. For more information or to register your team please visit http://www.relayforlife.org/barkpittconc .
X-ALT-DESC;FMTTYPE=text/html:<p>The American Cancer Society&rsquo\;s Bark For Life is a fundraising event honoring the life-long contributions of our Canine Caregivers. It presents an opportunity for people to be empowered through their canine companion partnerships and to contribute to &nbsp\;the mission of the American Cancer Society.&nbsp\;Bark for Life of Pitt County\, an event supporting Relay For Life of Pitt County will be held on Saturday\, June 4\, 2016 at Greensprings Park in Greenville\, NC. &nbsp\;A morning of food\, music and fun with our furry best friends will begin at 9 A. M. &nbsp\;Activities include a demonstration by the Greenville Police Department&rsquo\;s K-9 Unit\, a demonstration by the Pitt Robotics Crew and a Doggie Pageant hosted by the Humane Society of Eastern North Carolina.&nbsp\;Bruiser the Bulldog of Pitt Community College is also scheduled to join the fun!&nbsp\;Luminaria balloons are also available in honor or memory of our canine companions and loved ones.&nbsp\; Registration is $15 for one dog&nbsp\; and $25 for two dogs. For more information or to register your team please visit <a href="http://www.relayforlife.org/barkpittconc">http://www.relayforlife.org/barkpittconc</a> .</p>\n\n<p>&nbsp\;</p>\n
LOCATION:Greensprings Park 2500 East 5th Street Greenville\, NC 27858
UID:e.840.2691
SEQUENCE:3
DTSTAMP:20260424T065912Z
URL:https://business.greenvillenc.org/events/details/bark-for-life-of-pitt-county-06-04-2016-2691
END:VEVENT

END:VCALENDAR
