BEGIN:VCALENDAR
VERSION:2.0
PRODID:-//ChamberMaster//Event Calendar 2.0//EN
METHOD:PUBLISH
X-PUBLISHED-TTL:P3D
REFRESH-INTERVAL:P3D
CALSCALE:GREGORIAN
BEGIN:VEVENT
DTSTART:20150509T130000Z
DTEND:20150509T140000Z
X-MICROSOFT-CDO-ALLDAYEVENT:FALSE
SUMMARY:Backwoods Beast 5K- by Dream Factory
DESCRIPTION:MAKE TRACKS!!! Run\, walk\, climb and crawl through challenging obstacles on the Bicycle Post Mountain Bike Trails! There will be walls\, tunnels\, ballance obstacles and more. This event is a great oportunity for team building and enjoying some down and dirty fun with friends. All of the proceeds from this event will be used by Dream Factory to grant dreams to chronically and critically ill children in the 29 counties in Eastern North Carolina. Run the Backwoods Beast for the kids that wish they could but\, can't. This obstacle course may be tough but\, it isn't nearly as challenging as the daily lives of the children we serve. CHECK OUT DREAM FACTORY AT : http://dreamfactoryinc.org/mission/
X-ALT-DESC;FMTTYPE=text/html:MAKE TRACKS!!! Run\, walk\, climb and crawl through challenging obstacles on the Bicycle Post Mountain Bike Trails! There will be walls\, tunnels\, ballance obstacles and more. This event is a great oportunity for team building and enjoying some down and dirty fun with friends. All of the proceeds from this event will be used by Dream Factory to grant dreams to chronically and critically ill children in the 29 counties in Eastern North Carolina. Run the Backwoods Beast for the kids that wish they could but\, can&#39\;t. This obstacle course may be tough but\, it isn&#39\;t nearly as challenging as the daily lives of the children we serve. CHECK OUT DREAM FACTORY AT : <a href="http://dreamfactoryinc.org/mission/" target="_blank">http://dreamfactoryinc.org/mission/</a><br />\n<br />\n&nbsp\;
LOCATION:Shortbridge Rd Greenville\, NC
UID:e.840.1794
SEQUENCE:3
DTSTAMP:20260425T040431Z
URL:https://business.greenvillenc.org/events/details/backwoods-beast-5k-by-dream-factory-05-09-2015-1794
END:VEVENT

END:VCALENDAR
