BEGIN:VCALENDAR
VERSION:2.0
PRODID:-//ChamberMaster//Event Calendar 2.0//EN
METHOD:PUBLISH
X-PUBLISHED-TTL:P3D
REFRESH-INTERVAL:P3D
CALSCALE:GREGORIAN
BEGIN:VEVENT
DTSTART;VALUE=DATE:20190729
DTEND;VALUE=DATE:20190803
TRANSP:TRANSPARENT
X-MICROSOFT-CDO-ALLDAYEVENT:TRUE
SUMMARY:Suddenlink Hosts Back-to-School Supply Drive For Students in Pitt County
DESCRIPTION:Suddenlink is hosting a Back-to-School supply drive to ensure that students attending Pitt County Schools are prepared for the upcoming school year in support of education readiness.\n\n\n\nSupport local K-12 students by dropping off supplies at our Greenville Store location at 2120 W. Arlington Blvd. from July 29 - August 2.  Supplies collected during the drive will be distributed to Pitt County Public School District and will provide students with the resources they need to positively impact their 2019-2020 school year.
X-ALT-DESC;FMTTYPE=text/html:<div>\n<p><span style="font-family:calibri\,sans-serif\; font-size:12pt">Suddenlink is hosting a Back-to-School supply drive to ensure that students attending Pitt County Schools are prepared for the upcoming school year in support of education readiness.</span><br />\n<br />\n<span style="font-family:calibri"><span style="font-size:medium">Support local K-12 students by dropping off supplies at our Greenville Store location at 2120 W. Arlington Blvd. from&nbsp\;July 29 - August 2.&nbsp\; </span><span style="font-size:medium">Supplies collected during the drive will be distributed to Pitt County Public School District and will provide students with the resources they need to positively impact their 2019-2020 school year.</span></span></p>\n</div>\n
LOCATION:Suddenlink 2120 W. Arlington Blvd. Greenville\, NC
UID:e.840.10336
SEQUENCE:3
DTSTAMP:20260420T121452Z
URL:https://business.greenvillenc.org/events/details/back-to-school-supply-drive-10336
END:VEVENT

END:VCALENDAR
