BEGIN:VCALENDAR
VERSION:2.0
PRODID:-//ChamberMaster//Event Calendar 2.0//EN
METHOD:PUBLISH
X-PUBLISHED-TTL:P3D
REFRESH-INTERVAL:P3D
CALSCALE:GREGORIAN
BEGIN:VEVENT
DTSTART:20190822T213000Z
DTEND:20190823T000000Z
X-MICROSOFT-CDO-ALLDAYEVENT:FALSE
SUMMARY:Back to School Bash at Texas Roadhouse!
DESCRIPTION:Join us after you visit your school!\n\nThursday\, August 22nd\n\nKids Eat Free Until Close*\n\n\n\nFrom 5:30 - 8 pm\n\nFree goody bags!\n\nMeet Jesse and Buzz from Toy Story!\n\nFun for the entire family! Please contact us for more information about this exciting night!\n\n* - Limited 1 offer per each adult entree purchased. Ranger meals excluded. Not valid with any other offer.
X-ALT-DESC;FMTTYPE=text/html:Join us after you visit your school!<br />\nThursday\, August 22nd<br />\nKids Eat Free Until Close*<br />\n<br />\nFrom 5:30 - 8 pm<br />\nFree goody bags!<br />\nMeet Jesse and Buzz from Toy Story!<br />\nFun for the entire family! Please contact us for more information about this exciting night!<br />\n* - Limited 1 offer per each adult entree purchased. Ranger meals excluded. Not valid with any other offer.
LOCATION:Texas Roadhouse 720 Greenville Blvd SW
UID:e.840.10770
SEQUENCE:3
DTSTAMP:20260420T121517Z
URL:https://business.greenvillenc.org/events/details/back-to-school-bash-at-texas-roadhouse-10770
END:VEVENT

END:VCALENDAR
