BEGIN:VCALENDAR
VERSION:2.0
PRODID:-//ChamberMaster//Event Calendar 2.0//EN
METHOD:PUBLISH
X-PUBLISHED-TTL:P3D
REFRESH-INTERVAL:P3D
CALSCALE:GREGORIAN
BEGIN:VEVENT
DTSTART:20160302T210000Z
DTEND:20160302T220000Z
X-MICROSOFT-CDO-ALLDAYEVENT:FALSE
SUMMARY:Avoiding Pain related to the Use of Computers / Smartphones / Tablets
DESCRIPTION:Cyberpain : Learning how to take neck\, back\, arm and wrist pain out of computer/tablet/smartphone use.\n\n\n\n\n\nThis program provides practical ways to enjoy using modern technology properly to limit physical discomfort. \n\n\n\n\n\n\n\nVisual considerations as well as seat and desk configurations  will be explained.\n\n\n\n\n\nLet us keep computers and modern technology from being more of a pain than they have to be.
X-ALT-DESC;FMTTYPE=text/html:Cyberpain&nbsp\;:&nbsp\;Learning how to take neck\, back\, arm and wrist&nbsp\;pain&nbsp\;out of computer/tablet/smartphone use.<br />\n<br />\n<br />\nThis program provides practical ways to enjoy using modern technology properly to limit physical discomfort.&nbsp\;<br />\n<br />\n<br />\n<br />\nVisual considerations as well as seat and desk configurations&nbsp\;&nbsp\;will be explained.<br />\n<br />\n<br />\nLet us keep computers and modern technology from being more of a&nbsp\;pain&nbsp\;than they have to be.
LOCATION:Carolina Physical Therapy Associates
UID:e.840.2455
SEQUENCE:3
DTSTAMP:20260424T115613Z
URL:https://business.greenvillenc.org/events/details/avoiding-pain-related-to-the-use-of-computers-smartphones-tablets-03-02-2016-2455
END:VEVENT

END:VCALENDAR
