BEGIN:VCALENDAR
VERSION:2.0
PRODID:-//ChamberMaster//Event Calendar 2.0//EN
METHOD:PUBLISH
X-PUBLISHED-TTL:P3D
REFRESH-INTERVAL:P3D
CALSCALE:GREGORIAN
BEGIN:VEVENT
DTSTART:20160923T223000Z
DTEND:20160924T020000Z
X-MICROSOFT-CDO-ALLDAYEVENT:FALSE
SUMMARY:Autumnal Equinox Star Party at A Time For Science
DESCRIPTION:Come celebrate the beginning of Fall with a Star Party at A Time For Science. Festivities include a free planetarium show\, crafts\, games\, hay rides\, and of course star gazing. The night of September 23 will give us a great last chance to enjoy the wonderful deep space objects found towards the center of the Milky Way\, as well as a final look at Mars and Saturn. Enjoy more than the stars on this night. Paddle around our kayaking pond and eat up some campfire hotdogs. We will offer kayak rentals for $5 and $1 hotdogs.
X-ALT-DESC;FMTTYPE=text/html:Come celebrate the beginning of Fall with a Star Party at A Time For Science. Festivities include a free planetarium show\, crafts\, games\, hay rides\, and of course star gazing. The night of September 23 will give us a great last chance to enjoy the wonderful deep space objects found towards the center of the Milky Way\, as well as a final look at Mars and Saturn. Enjoy more than the stars on this night. Paddle around our kayaking pond and eat up some campfire hotdogs. We will offer kayak rentals for $5 and $1 hotdogs.
LOCATION:949 Contentnea Lane Grifton\, NC 28530
UID:e.840.5852
SEQUENCE:3
DTSTAMP:20260424T035750Z
URL:https://business.greenvillenc.org/events/details/autumnal-equinox-star-party-at-a-time-for-science-5852
END:VEVENT

END:VCALENDAR
