BEGIN:VCALENDAR
VERSION:2.0
PRODID:-//ChamberMaster//Event Calendar 2.0//EN
METHOD:PUBLISH
X-PUBLISHED-TTL:P3D
REFRESH-INTERVAL:P3D
CALSCALE:GREGORIAN
BEGIN:VEVENT
DTSTART:20191205T150000Z
DTEND:20191205T170000Z
X-MICROSOFT-CDO-ALLDAYEVENT:FALSE
SUMMARY:Attention: U.S. Military Veteran Small Business Owners
DESCRIPTION:Domtar Personal Care would like to meet you!\n\n\n\nDPC Presentation:\n\n	Who We Are & What We Do\n	How To Do Business With Us\n\nPlease RSVP by Tuesday\, November 26 to: smallbusiness@domtar.com\n\n\n\nWe look forward to meeting with you and thank you for your service!
X-ALT-DESC;FMTTYPE=text/html:<strong>Domtar Personal Care would like to meet you!<br />\n<br />\nDPC Presentation:</strong>\n<ul>\n	<li>Who We Are &amp\; What We Do</li>\n	<li>How To Do Business With Us</li>\n</ul>\n<strong>Please RSVP by Tuesday\, November 26 to:</strong> <a href="mailto:smallbusiness@domtar.com">smallbusiness@domtar.com</a><br />\n<br />\nWe look forward to meeting with you and thank you for your service!
LOCATION:Domtar Personal Care 1029 Old Creek Rd. Greenville\, NC 27834
UID:e.840.10927
SEQUENCE:3
DTSTAMP:20260420T075118Z
URL:https://business.greenvillenc.org/events/details/attention-u-s-military-veteran-small-business-owners-10927
END:VEVENT

END:VCALENDAR
