BEGIN:VCALENDAR
VERSION:2.0
PRODID:-//ChamberMaster//Event Calendar 2.0//EN
METHOD:PUBLISH
X-PUBLISHED-TTL:P3D
REFRESH-INTERVAL:P3D
CALSCALE:GREGORIAN
BEGIN:VEVENT
DTSTART:20190403T223000Z
DTEND:20190404T003000Z
X-MICROSOFT-CDO-ALLDAYEVENT:FALSE
SUMMARY:ATS Essential Oils Workshop
DESCRIPTION:What are they? How do you use them? Which oils are good for what? Learn how essential oils can compliment your health routine with a mystery MAKE AND TAKE!\n\n\n\nThis will be a relaxed yet informative night. There will be wine and hors d'oeuvres provided for everyone attending. We hope to see you there\, we know you will have a great thyme \;) \n\n\n\nPlease feel free to call us at 252 689 8729 if you have any questions.
X-ALT-DESC;FMTTYPE=text/html:<span style="color:rgb(29\, 33\, 41)\; font-family:system-ui\,-apple-system\,blinkmacsystemfont\,.sfnstext-regular\,sans-serif\; font-size:14px">What are they? How do you use them? Which oils are good for what? Learn how essential oils can compliment your health routine with a mystery MAKE AND TAKE!</span><br />\n<br />\n<span style="color:rgb(29\, 33\, 41)\; font-family:system-ui\,-apple-system\,blinkmacsystemfont\,.sfnstext-regular\,sans-serif\; font-size:14px">This will be a relaxed yet informative night. There will be wine and hors d&#39\;oeuvres provided for everyone attending. We hope to see you there\, we know you will have a great thyme \;) </span><br />\n<br />\n<span style="color:rgb(29\, 33\, 41)\; font-family:system-ui\,-apple-system\,blinkmacsystemfont\,.sfnstext-regular\,sans-serif\; font-size:14px">Please feel free to call us at 252 689 8729 if you have any questions. </span>
LOCATION:Advantage Therapy Solutions 212 E. Arlington Blvd Greenville\, NC 27858
UID:e.840.9773
SEQUENCE:3
DTSTAMP:20260420T173023Z
URL:https://business.greenvillenc.org/events/details/ats-essential-oils-workshop-9773
END:VEVENT

END:VCALENDAR
