BEGIN:VCALENDAR
VERSION:2.0
PRODID:-//ChamberMaster//Event Calendar 2.0//EN
METHOD:PUBLISH
X-PUBLISHED-TTL:P3D
REFRESH-INTERVAL:P3D
CALSCALE:GREGORIAN
BEGIN:VEVENT
DTSTART:20160917T130000Z
DTEND:20160917T210000Z
X-MICROSOFT-CDO-ALLDAYEVENT:FALSE
SUMMARY:Artisans Semi-Annual Sidewalk Sale
DESCRIPTION:Our Semi-Annual Sidewalk Sale is Tomorrow with Items marked 50 - 90% OFF! Sales throughout our 75+ shoppes. This is something you won't want to miss!
X-ALT-DESC;FMTTYPE=text/html:Our Semi-Annual Sidewalk Sale is Tomorrow with Items marked 50 - 90% OFF! Sales throughout our 75+ shoppes. This is something you won&#39\;t want to miss!
LOCATION:150 Plaza Drive - off Evans Street
UID:e.840.5870
SEQUENCE:3
DTSTAMP:20260424T024933Z
URL:https://business.greenvillenc.org/events/details/artisans-semi-annual-sidewalk-sale-5870
END:VEVENT

END:VCALENDAR
