BEGIN:VCALENDAR
VERSION:2.0
PRODID:-//ChamberMaster//Event Calendar 2.0//EN
METHOD:PUBLISH
X-PUBLISHED-TTL:P3D
REFRESH-INTERVAL:P3D
CALSCALE:GREGORIAN
BEGIN:VEVENT
DTSTART:20170121T180000Z
DTEND:20170121T200000Z
X-MICROSOFT-CDO-ALLDAYEVENT:FALSE
SUMMARY:Artisans Little Artists Fork Art Painting Class
DESCRIPTION:Parents can shop while children are busy creating. Call Artisans to sign up today. Drop-ins welcome! Children have their choice of painting a Lion\, Panda\, Cat\, Bunny with this fun Fork Art Painting Class.
X-ALT-DESC;FMTTYPE=text/html:<span style="color:rgb(29\, 33\, 41)\; font-family:san francisco\,-apple-system\,blinkmacsystemfont\,.sfnstext-regular\,sans-serif\; font-size:14px">Parents can shop while children are busy creating. Call Artisans to sign up today. Drop-ins welcome!&nbsp\;</span><span style="font-size:14px\;">Children have their choice of painting a Lion\, Panda\, Cat\, Bunny with this fun Fork Art Painting Class.</span>
LOCATION:Artisans of Greenville 150 Plaza Drive Greenville\, NC 27858
UID:e.840.7715
SEQUENCE:3
DTSTAMP:20260423T222107Z
URL:https://business.greenvillenc.org/events/details/artisans-little-artists-fork-art-painting-class-7715
END:VEVENT

END:VCALENDAR
